BEGIN:VCALENDAR
VERSION:2.0
PRODID:-//Bentley&#039;s Saloon - ECPv6.15.20//NONSGML v1.0//EN
CALSCALE:GREGORIAN
METHOD:PUBLISH
X-WR-CALNAME:Bentley&#039;s Saloon
X-ORIGINAL-URL:https://bentleyssaloon.com
X-WR-CALDESC:Events for Bentley&#039;s Saloon
REFRESH-INTERVAL;VALUE=DURATION:PT1H
X-Robots-Tag:noindex
X-PUBLISHED-TTL:PT1H
BEGIN:VTIMEZONE
TZID:UTC
BEGIN:STANDARD
TZOFFSETFROM:+0000
TZOFFSETTO:+0000
TZNAME:UTC
DTSTART:20180101T000000
END:STANDARD
END:VTIMEZONE
BEGIN:VEVENT
DTSTART;TZID=UTC:20190902T130000
DTEND;TZID=UTC:20190902T170000
DTSTAMP:20260425T063430
CREATED:20190408T195257Z
LAST-MODIFIED:20190408T195257Z
UID:10028027-1567429200-1567443600@bentleyssaloon.com
SUMMARY:COLD TRAIN
DESCRIPTION:A live tribute to great American Southern Rock.
URL:https://bentleyssaloon.com/event/cold-train/
LOCATION:Bentley’s Saloon\, 1601 Portland Road\, Arundel\, ME\, 04046
CATEGORIES:Live Music,Southern Rock
ATTACH;FMTTYPE=image/jpeg:https://bentleyssaloon.com/wp-content/uploads/2019/03/cold-train-cover.jpg
END:VEVENT
BEGIN:VEVENT
DTSTART;TZID=UTC:20190902T170000
DTEND;TZID=UTC:20190902T200000
DTSTAMP:20260425T063430
CREATED:20190408T195601Z
LAST-MODIFIED:20190408T195601Z
UID:10028028-1567443600-1567454400@bentleyssaloon.com
SUMMARY:SARAH LIBBY DUO
DESCRIPTION:Acoustic/electric covers & originals.
URL:https://bentleyssaloon.com/event/sarah-libby-duo-2/
LOCATION:Bentley’s Saloon\, 1601 Portland Road\, Arundel\, ME\, 04046
CATEGORIES:Live Music
ATTACH;FMTTYPE=image/jpeg:https://bentleyssaloon.com/wp-content/uploads/2019/04/sarah-libby-duo.jpg
END:VEVENT
END:VCALENDAR