BEGIN:VCALENDAR
VERSION:2.0
PRODID:-//Bentley&#039;s Saloon - ECPv6.15.20//NONSGML v1.0//EN
CALSCALE:GREGORIAN
METHOD:PUBLISH
X-WR-CALNAME:Bentley&#039;s Saloon
X-ORIGINAL-URL:https://bentleyssaloon.com
X-WR-CALDESC:Events for Bentley&#039;s Saloon
REFRESH-INTERVAL;VALUE=DURATION:PT1H
X-Robots-Tag:noindex
X-PUBLISHED-TTL:PT1H
BEGIN:VTIMEZONE
TZID:UTC
BEGIN:STANDARD
TZOFFSETFROM:+0000
TZOFFSETTO:+0000
TZNAME:UTC
DTSTART:20180101T000000
END:STANDARD
END:VTIMEZONE
BEGIN:VEVENT
DTSTART;TZID=UTC:20190906T200000
DTEND;TZID=UTC:20190906T200000
DTSTAMP:20260425T063429
CREATED:20190408T195838Z
LAST-MODIFIED:20190727T194000Z
UID:10028029-1567800000-1567800000@bentleyssaloon.com
SUMMARY:BAD MEDICINE
DESCRIPTION:Bad Medicine is a rock cover band from Southern New Hampshire. Get a dose of Bad Medicine now!!!
URL:https://bentleyssaloon.com/event/carbon-14-3/
LOCATION:Bentley’s Saloon\, 1601 Portland Road\, Arundel\, ME\, 04046
CATEGORIES:Live Music,Rock N Roll
ATTACH;FMTTYPE=image/jpeg:https://bentleyssaloon.com/wp-content/uploads/2019/04/BAD-MEDICINE.jpg
END:VEVENT
BEGIN:VEVENT
DTSTART;TZID=UTC:20190906T210000
DTEND;TZID=UTC:20190906T213000
DTSTAMP:20260425T063429
CREATED:20190411T030801Z
LAST-MODIFIED:20190411T030801Z
UID:10028150-1567803600-1567805400@bentleyssaloon.com
SUMMARY:BENTLEY'S ANGEL W/FREE SWAG
DESCRIPTION:
URL:https://bentleyssaloon.com/event/bentleys-angel-w-free-swag/2019-09-06/
LOCATION:Bentley’s Saloon\, 1601 Portland Road\, Arundel\, ME\, 04046
CATEGORIES:Fun Event,Live Music
ATTACH;FMTTYPE=image/jpeg:https://bentleyssaloon.com/wp-content/uploads/2019/03/Angels_Devils.jpg
END:VEVENT
END:VCALENDAR