BEGIN:VCALENDAR
VERSION:2.0
PRODID:-//Bentley&#039;s Saloon - ECPv6.15.20//NONSGML v1.0//EN
CALSCALE:GREGORIAN
METHOD:PUBLISH
X-WR-CALNAME:Bentley&#039;s Saloon
X-ORIGINAL-URL:https://bentleyssaloon.com
X-WR-CALDESC:Events for Bentley&#039;s Saloon
REFRESH-INTERVAL;VALUE=DURATION:PT1H
X-Robots-Tag:noindex
X-PUBLISHED-TTL:PT1H
BEGIN:VTIMEZONE
TZID:UTC
BEGIN:STANDARD
TZOFFSETFROM:+0000
TZOFFSETTO:+0000
TZNAME:UTC
DTSTART:20180101T000000
END:STANDARD
END:VTIMEZONE
BEGIN:VEVENT
DTSTART;TZID=UTC:20190929T110000
DTEND;TZID=UTC:20190929T150000
DTSTAMP:20260425T063429
CREATED:20190409T210233Z
LAST-MODIFIED:20190730T235011Z
UID:10028188-1569754800-1569769200@bentleyssaloon.com
SUMMARY:SEASON END CAR SHOW (rain date Sept 29)
DESCRIPTION:BRINGING A CAR TO DISPLAY AT OUR SEASON END CAR SHOW\, COME EARLY AS IT’S USUALLY A FANTASTIC TURNOUT WITH AMAZING CARS.  FREE TO ENTER\, SPECTATOR CHOICE AWARDS\, DISCOUNTED MEALS FOR CAR SHOW OWNERS & THEIR GUESTS\, DOOR PRIZES\, CASH RAFFLES & WE DRAW THE WINNING TICKET FOR THE UPSCALE TOOLBOX THANKS TO OUR LOCAL SANEL NAPA AUTO PARTS CENTER MANAGER JEFF FROM THE BIDDEFORD STORE!!  (rain date Sept 29) All-you-can-eat breakfast buffet with made to order omelets and bottomless coffee served 8 am til 11:30 am.  Memphis Lightning performs 1 til 5 pm!  This typically is our biggest show of the season with hundreds of cars on display! \n  \n  \n 
URL:https://bentleyssaloon.com/event/season-end-car-show-2019-09-29/
LOCATION:Bentley’s Saloon\, 1601 Portland Road\, Arundel\, ME\, 04046
CATEGORIES:Car Show
ATTACH;FMTTYPE=image/jpeg:https://bentleyssaloon.com/wp-content/uploads/2019/04/2019-Season-End-Car-Show.jpg
END:VEVENT
BEGIN:VEVENT
DTSTART;TZID=UTC:20190929T170000
DTEND;TZID=UTC:20190929T200000
DTSTAMP:20260425T063429
CREATED:20190411T031357Z
LAST-MODIFIED:20190411T031357Z
UID:10028175-1569776400-1569787200@bentleyssaloon.com
SUMMARY:TOMBSTONE PD
DESCRIPTION:
URL:https://bentleyssaloon.com/event/tombstone-pd-3/2019-09-29/
LOCATION:Bentley’s Saloon\, 1601 Portland Road\, Arundel\, ME\, 04046
CATEGORIES:Live Music
ATTACH;FMTTYPE=image/jpeg:https://bentleyssaloon.com/wp-content/uploads/2019/04/2019-tombstone-pd.jpg
END:VEVENT
END:VCALENDAR