BEGIN:VCALENDAR
VERSION:2.0
PRODID:-//Bentley&#039;s Saloon - ECPv6.15.20//NONSGML v1.0//EN
CALSCALE:GREGORIAN
METHOD:PUBLISH
X-WR-CALNAME:Bentley&#039;s Saloon
X-ORIGINAL-URL:https://bentleyssaloon.com
X-WR-CALDESC:Events for Bentley&#039;s Saloon
REFRESH-INTERVAL;VALUE=DURATION:PT1H
X-Robots-Tag:noindex
X-PUBLISHED-TTL:PT1H
BEGIN:VTIMEZONE
TZID:UTC
BEGIN:STANDARD
TZOFFSETFROM:+0000
TZOFFSETTO:+0000
TZNAME:UTC
DTSTART:20180101T000000
END:STANDARD
END:VTIMEZONE
BEGIN:VEVENT
DTSTART;TZID=UTC:20191012T170000
DTEND;TZID=UTC:20191012T190000
DTSTAMP:20260424T022531
CREATED:20190409T204704Z
LAST-MODIFIED:20190409T204704Z
UID:10027924-1570899600-1570906800@bentleyssaloon.com
SUMMARY:HARLEY DAVIDSON GIVEAWAY
DESCRIPTION:THANKS TO BIG MOOSE HARLEY DAVIDSON\, SAILOR JERRY’S AND BENTLEY\, WE’RE GIVING AWAY A HARLEY DAVIDSON AGAIN THIS SEASON!!  FREE TO ENTER\, ONLY 300 QUALIFIERS\, AND THIS IS THE LAST OPPORTUNITY TO QUALIFY IF YOU HAVEN’T YET.  IF YOU QUALIFIED\, BE AT SALOON BY 5 PM WITH ID TO REGISTER.  NO STAND-INS.  YOU MUST BE PRESENT TO WIN.  WE WILL QUALIFY A FEW MORE GUESTS ON THIS DAY!!
URL:https://bentleyssaloon.com/event/harley-davidson-giveaway/
LOCATION:Bentley’s Saloon\, 1601 Portland Road\, Arundel\, ME\, 04046
CATEGORIES:Fun Event
END:VEVENT
BEGIN:VEVENT
DTSTART;TZID=UTC:20191012T200000
DTEND;TZID=UTC:20191012T200000
DTSTAMP:20260424T022531
CREATED:20190409T205253Z
LAST-MODIFIED:20190409T205253Z
UID:10027929-1570910400-1570910400@bentleyssaloon.com
SUMMARY:BIG MOOSE HARLEY DAVIDSON BAND
DESCRIPTION:Big Moose Harley Davidson Band takes the stage\, will Bentley join them?
URL:https://bentleyssaloon.com/event/big-moose-harley-davidson-band-2/
LOCATION:Bentley’s Saloon\, 1601 Portland Road\, Arundel\, ME\, 04046
CATEGORIES:Live Music,Variety
ATTACH;FMTTYPE=image/jpeg:https://bentleyssaloon.com/wp-content/uploads/2019/04/BIG-MOOSE-HD-BAND.jpg
END:VEVENT
END:VCALENDAR