BEGIN:VCALENDAR
VERSION:2.0
PRODID:-//Bentley&#039;s Saloon - ECPv6.15.20//NONSGML v1.0//EN
CALSCALE:GREGORIAN
METHOD:PUBLISH
X-ORIGINAL-URL:https://bentleyssaloon.com
X-WR-CALDESC:Events for Bentley&#039;s Saloon
REFRESH-INTERVAL;VALUE=DURATION:PT1H
X-Robots-Tag:noindex
X-PUBLISHED-TTL:PT1H
BEGIN:VTIMEZONE
TZID:UTC
BEGIN:STANDARD
TZOFFSETFROM:+0000
TZOFFSETTO:+0000
TZNAME:UTC
DTSTART:20180101T000000
END:STANDARD
END:VTIMEZONE
BEGIN:VEVENT
DTSTART;TZID=UTC:20191019T140000
DTEND;TZID=UTC:20191019T180000
DTSTAMP:20260422T113705
CREATED:20190409T233317Z
LAST-MODIFIED:20190409T233317Z
UID:10027935-1571493600-1571508000@bentleyssaloon.com
SUMMARY:NIKKI HUNT
DESCRIPTION:Nikki has been singing with The Nikki Hunt Band since 2009. Hula hooping since 2006.  She’s amazingly entertaining to watch!
URL:https://bentleyssaloon.com/event/nikki-hunt/
LOCATION:Bentley’s Saloon\, 1601 Portland Road\, Arundel\, ME\, 04046
CATEGORIES:Live Music,Variety
ATTACH;FMTTYPE=image/jpeg:https://bentleyssaloon.com/wp-content/uploads/2019/04/nikki-hunt.jpg
END:VEVENT
BEGIN:VEVENT
DTSTART;TZID=UTC:20191019T200000
DTEND;TZID=UTC:20191019T200000
DTSTAMP:20260422T113705
CREATED:20190408T050804Z
LAST-MODIFIED:20190408T050804Z
UID:10027893-1571515200-1571515200@bentleyssaloon.com
SUMMARY:ERIC GRANT BAND
DESCRIPTION:ERIC GRANT BAND IS PERFORMING AT OUR HALLOWEEN COSTUME PARTY!!  Gilford\, New Hampshire’s Eric Grant Band has taken the country music scene by storm playing in front of thousands of fans in northern New England since 2009. They have been featured as a supporting act for national headliners such as Jason Aldean\, Tim McGraw\, Blake Shelton\, Trace Adkins\, Toby Keith\, Eric Church\, Lady Antebellum\, Keith Urban\, Brantley Gilbert\, Lee Brice\, Craig Campbell\, Randy Houser\, Keith Anderson\, Lonestar\, Sugarland\, Zac Brown Band and Jo Dee Messina.
URL:https://bentleyssaloon.com/event/eric-grant-band-4/
LOCATION:Bentley’s Saloon\, 1601 Portland Road\, Arundel\, ME\, 04046
CATEGORIES:Live Music,Variety
ATTACH;FMTTYPE=image/jpeg:https://bentleyssaloon.com/wp-content/uploads/2019/04/ERIC-GRANT-BAND.jpg
END:VEVENT
BEGIN:VEVENT
DTSTART;TZID=UTC:20191019T200000
DTEND;TZID=UTC:20191019T200000
DTSTAMP:20260422T113705
CREATED:20190414T070645Z
LAST-MODIFIED:20191014T174030Z
UID:10028194-1571515200-1571515200@bentleyssaloon.com
SUMMARY:HALLOWEEN COSTUME PARTY
DESCRIPTION:The Halloween Costume Party sponsored by Shipyard Brewery tickets are NOT sold out.  Since the weather forecast is favorable for the party permitting use of our outside courtyard area\, we will be releasing more tickets which will be available on Tuesday\, October 15th at the gift shop. \nCASH\, PRIZES AND BRAGGING RIGHTS CERTIFICATE FOR FAVORITE COSTUMES. \nJudging is based on on the following categories:\n1.) goriest\, ugliest\, scariest 2.) creative\, original\, imaginative 3.) favorite couple or group 4.) sexiest\, hunky\, erotic 5.) funniest\, silliest\, craziest and 6.) the “WTF?” Judge’s Decision. \nProfessional photographer Bret Labelle will be at Randy’s Hot Spot. \nThe back bar will be closed following Nikki Hunt’s performance at 6 pm til 7 pm to finish Halloween Decorating for the party!
URL:https://bentleyssaloon.com/event/halloween-costume-party/
LOCATION:Bentley’s Saloon\, 1601 Portland Road\, Arundel\, ME\, 04046
CATEGORIES:Fun Event
ATTACH;FMTTYPE=image/jpeg:https://bentleyssaloon.com/wp-content/uploads/2019/04/2019-halloween-costume-party-1.jpg
END:VEVENT
END:VCALENDAR