BEGIN:VCALENDAR
VERSION:2.0
PRODID:-//Bentley&#039;s Saloon - ECPv6.15.20//NONSGML v1.0//EN
CALSCALE:GREGORIAN
METHOD:PUBLISH
X-WR-CALNAME:Bentley&#039;s Saloon
X-ORIGINAL-URL:https://bentleyssaloon.com
X-WR-CALDESC:Events for Bentley&#039;s Saloon
REFRESH-INTERVAL;VALUE=DURATION:PT1H
X-Robots-Tag:noindex
X-PUBLISHED-TTL:PT1H
BEGIN:VTIMEZONE
TZID:UTC
BEGIN:STANDARD
TZOFFSETFROM:+0000
TZOFFSETTO:+0000
TZNAME:UTC
DTSTART:20220101T000000
END:STANDARD
END:VTIMEZONE
BEGIN:VEVENT
DTSTART;TZID=UTC:20230520T080000
DTEND;TZID=UTC:20230520T120000
DTSTAMP:20260419T094109
CREATED:20211204T032854Z
LAST-MODIFIED:20230509T010654Z
UID:10028827-1684569600-1684584000@bentleyssaloon.com
SUMMARY:MASONIC YOUTH CHARITIES RUN
DESCRIPTION:Registration 8AM-9:30AM \nALL BIKERS WELCOME\nDonation – Riders $25 – Passengers $10\nDeparting Bentley’s at 10am\nRefreshment Stop—Return to Bentley’s
URL:https://bentleyssaloon.com/event/masonic-youth-charities-run/
LOCATION:ME
CATEGORIES:Motorcycle Charity Benefit Run
ATTACH;FMTTYPE=application/pdf:https://bentleyssaloon.com/wp-content/uploads/2021/12/MASONIC-RIDE-2023-final-sm.pdf
END:VEVENT
BEGIN:VEVENT
DTSTART;TZID=UTC:20230520T140000
DTEND;TZID=UTC:20230520T180000
DTSTAMP:20260419T094109
CREATED:20230402T034823Z
LAST-MODIFIED:20230402T034904Z
UID:10028545-1684591200-1684605600@bentleyssaloon.com
SUMMARY:EXP Band!
DESCRIPTION:New England Urban Country -Rob Randlett \, John Andrews \, Curtis Marzerka\, Daryl Barnes\, and Dave Palmer!
URL:https://bentleyssaloon.com/event/exp-band/
LOCATION:ME
CATEGORIES:Live Music
ATTACH;FMTTYPE=image/jpeg:https://bentleyssaloon.com/wp-content/uploads/2023/04/exp-band-scaled.jpg
END:VEVENT
BEGIN:VEVENT
DTSTART;TZID=UTC:20230520T190000
DTEND;TZID=UTC:20230520T230000
DTSTAMP:20260419T094109
CREATED:20230402T035308Z
LAST-MODIFIED:20230402T035308Z
UID:10028557-1684609200-1684623600@bentleyssaloon.com
SUMMARY:Rage!
DESCRIPTION:Bad boys from Boston are back with former members of Aerosmith’s Joe Perry Project\, and Boston Band Extreme.
URL:https://bentleyssaloon.com/event/rage-7/2023-05-20/
LOCATION:ME
CATEGORIES:Live Music
ATTACH;FMTTYPE=image/jpeg:https://bentleyssaloon.com/wp-content/uploads/2021/12/rage-halloween-party-2021.jpg
END:VEVENT
END:VCALENDAR