BEGIN:VCALENDAR
VERSION:2.0
PRODID:-//Bentley&#039;s Saloon - ECPv6.15.20//NONSGML v1.0//EN
CALSCALE:GREGORIAN
METHOD:PUBLISH
X-ORIGINAL-URL:https://bentleyssaloon.com
X-WR-CALDESC:Events for Bentley&#039;s Saloon
REFRESH-INTERVAL;VALUE=DURATION:PT1H
X-Robots-Tag:noindex
X-PUBLISHED-TTL:PT1H
BEGIN:VTIMEZONE
TZID:UTC
BEGIN:STANDARD
TZOFFSETFROM:+0000
TZOFFSETTO:+0000
TZNAME:UTC
DTSTART:20230101T000000
END:STANDARD
END:VTIMEZONE
BEGIN:VEVENT
DTSTART;TZID=UTC:20240627T190000
DTEND;TZID=UTC:20240627T220000
DTSTAMP:20260423T174842
CREATED:20221219T092050Z
LAST-MODIFIED:20240406T002141Z
UID:10028470-1719514800-1719525600@bentleyssaloon.com
SUMMARY:Flying Ivories Dueling Pianos
DESCRIPTION:In 2022\, Bentley hosted a private event at his museum\, and The Flying Ivories Dueling Pianos performed.  It was such a hit\, in 2023 we hired them back to perform at the Saloon.  The patrons loved it and requested we bring them back!
URL:https://bentleyssaloon.com/event/flying-ivories-dueling-pianos/
LOCATION:ME
CATEGORIES:Live Music
ATTACH;FMTTYPE=image/jpeg:https://bentleyssaloon.com/wp-content/uploads/2022/12/2024-Dueling-Pianos-scaled.jpg
END:VEVENT
END:VCALENDAR