BEGIN:VCALENDAR
VERSION:2.0
PRODID:-//Bentley&#039;s Saloon - ECPv6.15.20//NONSGML v1.0//EN
CALSCALE:GREGORIAN
METHOD:PUBLISH
X-ORIGINAL-URL:https://bentleyssaloon.com
X-WR-CALDESC:Events for Bentley&#039;s Saloon
REFRESH-INTERVAL;VALUE=DURATION:PT1H
X-Robots-Tag:noindex
X-PUBLISHED-TTL:PT1H
BEGIN:VTIMEZONE
TZID:UTC
BEGIN:STANDARD
TZOFFSETFROM:+0000
TZOFFSETTO:+0000
TZNAME:UTC
DTSTART:20220101T000000
END:STANDARD
END:VTIMEZONE
BEGIN:VEVENT
DTSTART;TZID=UTC:20230606T170000
DTEND;TZID=UTC:20230606T200000
DTSTAMP:20260420T224301
CREATED:20221122T053052Z
LAST-MODIFIED:20230502T184217Z
UID:10028956-1686070800-1686081600@bentleyssaloon.com
SUMMARY:Cruisin' Night Tuesday Car Show
DESCRIPTION:Every Tuesday from 5 pm til dusk (May 16 through Sept 19\, 2023) are Bentley’s Cruisin’ Night Car Shows!  All special interest cars are welcome and it’s one of our favorite nights of the week to get together to enjoy the show and camaraderie. Often times there are more than 100 cars on display! There are no entry fees for car show owners or spectators. Car show owners receive door prizes\, spectator choice awards and a chance to win a FREE toolbox valued over $1\,000.  We offer cash raffles for everyone to play and donate a portion of the money to our Town of Arundel’s Holiday Program for local residents in need of a helping hand during the holiday season. \nAt three of our Cruisin’ Night Tuesday Shows we have special features –  Hot Rods (1948 & older) and Rat Rods (June 20\, 2023); Antique Cars and Trucks 1957 and older (July 18\, 2023); and All Types of Trucks (August 29\, 2023). All special interest vehicles are invited to come to this show. However\, the spectator choice voting is on the featured event vehicles. \nBentley’s race car driver friends join us for an annual All Eras Race Car Show (Wednesday\, June 7\, 2023) that brings together the drivers and cars of today with the drivers and cars of yesteryear! \nThe Sunday Season-End Show\, Sept 24\, 2023 (rain date Oct 1) is typically our most participated show with hundreds of cars on display\, and at this show we draw the winner’s name for the toolbox valued at $1000. \n 
URL:https://bentleyssaloon.com/event/cruisin-night-tuesday-car-show/2023-06-06/
CATEGORIES:Car Show
ATTACH;FMTTYPE=image/jpeg:https://bentleyssaloon.com/wp-content/uploads/2023/05/2023-Cruisin_Tuesday_Car-Shows.jpg
END:VEVENT
BEGIN:VEVENT
DTSTART;TZID=UTC:20230607T160000
DTEND;TZID=UTC:20230607T190000
DTSTAMP:20260420T224301
CREATED:20221122T053740Z
LAST-MODIFIED:20221122T053740Z
UID:10028972-1686153600-1686164400@bentleyssaloon.com
SUMMARY:All Eras Race Car Show
DESCRIPTION:Bentley’s race car driver friends join us for an annual All Eras Race Car Show that brings together the drivers and cars of today with the drivers and cars of yesteryear! Always a family friendly reunion among racers and fans!
URL:https://bentleyssaloon.com/event/all-eras-race-car-show-4/
CATEGORIES:Car Show
END:VEVENT
BEGIN:VEVENT
DTSTART;TZID=UTC:20230620T170000
DTEND;TZID=UTC:20230620T200000
DTSTAMP:20260420T224301
CREATED:20221122T053052Z
LAST-MODIFIED:20230620T231943Z
UID:10028967-1687280400-1687291200@bentleyssaloon.com
SUMMARY:Cruisin' Night Tuesday Car Show featuring Hot Rods & Rat Rods
DESCRIPTION:Due to on and off showers\, this feature show is rescheduled to June 27th.  However\, we still will have our regular Cruisin’ Night Tuesday Car Show \n  \nHot Rod – body 1948 or older or aftermarket body resembling production year 1948 or older.  Remainder of the hot rod? Surprise us & show us what you’ve got! \nRat Rod – You drive it in and if it looks like a Rat Rod\, we’ll have a spot for you!
URL:https://bentleyssaloon.com/event/cruisin-night-tuesday-car-show-2023-06-20/2023-06-20/
CATEGORIES:Car Show
ATTACH;FMTTYPE=image/jpeg:https://bentleyssaloon.com/wp-content/uploads/2022/11/2023-Cruisin_Tuesday_Car-Shows_v2-scaled.jpg
END:VEVENT
BEGIN:VEVENT
DTSTART;TZID=UTC:20230627T170000
DTEND;TZID=UTC:20230627T200000
DTSTAMP:20260420T224301
CREATED:20221122T053052Z
LAST-MODIFIED:20230502T184217Z
UID:10028957-1687885200-1687896000@bentleyssaloon.com
SUMMARY:Cruisin' Night Tuesday Car Show
DESCRIPTION:Every Tuesday from 5 pm til dusk (May 16 through Sept 19\, 2023) are Bentley’s Cruisin’ Night Car Shows!  All special interest cars are welcome and it’s one of our favorite nights of the week to get together to enjoy the show and camaraderie. Often times there are more than 100 cars on display! There are no entry fees for car show owners or spectators. Car show owners receive door prizes\, spectator choice awards and a chance to win a FREE toolbox valued over $1\,000.  We offer cash raffles for everyone to play and donate a portion of the money to our Town of Arundel’s Holiday Program for local residents in need of a helping hand during the holiday season. \nAt three of our Cruisin’ Night Tuesday Shows we have special features –  Hot Rods (1948 & older) and Rat Rods (June 20\, 2023); Antique Cars and Trucks 1957 and older (July 18\, 2023); and All Types of Trucks (August 29\, 2023). All special interest vehicles are invited to come to this show. However\, the spectator choice voting is on the featured event vehicles. \nBentley’s race car driver friends join us for an annual All Eras Race Car Show (Wednesday\, June 7\, 2023) that brings together the drivers and cars of today with the drivers and cars of yesteryear! \nThe Sunday Season-End Show\, Sept 24\, 2023 (rain date Oct 1) is typically our most participated show with hundreds of cars on display\, and at this show we draw the winner’s name for the toolbox valued at $1000. \n 
URL:https://bentleyssaloon.com/event/cruisin-night-tuesday-car-show/2023-06-27/
CATEGORIES:Car Show
ATTACH;FMTTYPE=image/jpeg:https://bentleyssaloon.com/wp-content/uploads/2023/05/2023-Cruisin_Tuesday_Car-Shows.jpg
END:VEVENT
BEGIN:VEVENT
DTSTART;TZID=UTC:20230627T170000
DTEND;TZID=UTC:20230627T200000
DTSTAMP:20260420T224301
CREATED:20221122T053052Z
LAST-MODIFIED:20230620T231943Z
UID:10028968-1687885200-1687896000@bentleyssaloon.com
SUMMARY:Cruisin' Night Tuesday Car Show featuring Hot Rods & Rat Rods
DESCRIPTION:Due to on and off showers\, this feature show is rescheduled to June 27th.  However\, we still will have our regular Cruisin’ Night Tuesday Car Show \n  \nHot Rod – body 1948 or older or aftermarket body resembling production year 1948 or older.  Remainder of the hot rod? Surprise us & show us what you’ve got! \nRat Rod – You drive it in and if it looks like a Rat Rod\, we’ll have a spot for you!
URL:https://bentleyssaloon.com/event/cruisin-night-tuesday-car-show-2023-06-20/2023-06-27/
CATEGORIES:Car Show
ATTACH;FMTTYPE=image/jpeg:https://bentleyssaloon.com/wp-content/uploads/2022/11/2023-Cruisin_Tuesday_Car-Shows_v2-scaled.jpg
END:VEVENT
END:VCALENDAR