BEGIN:VCALENDAR
VERSION:2.0
PRODID:-//Bentley&#039;s Saloon - ECPv6.15.20//NONSGML v1.0//EN
CALSCALE:GREGORIAN
METHOD:PUBLISH
X-WR-CALNAME:Bentley&#039;s Saloon
X-ORIGINAL-URL:https://bentleyssaloon.com
X-WR-CALDESC:Events for Bentley&#039;s Saloon
REFRESH-INTERVAL;VALUE=DURATION:PT1H
X-Robots-Tag:noindex
X-PUBLISHED-TTL:PT1H
BEGIN:VTIMEZONE
TZID:UTC
BEGIN:STANDARD
TZOFFSETFROM:+0000
TZOFFSETTO:+0000
TZNAME:UTC
DTSTART:20180101T000000
END:STANDARD
END:VTIMEZONE
BEGIN:VEVENT
DTSTART;TZID=UTC:20200915T170000
DTEND;TZID=UTC:20200915T190000
DTSTAMP:20260420T124727
CREATED:20200124T110304Z
LAST-MODIFIED:20200723T171008Z
UID:10028364-1600189200-1600196400@bentleyssaloon.com
SUMMARY:Cruisin' Night Tuesday Car Shows
DESCRIPTION:Join us for our free weekly Cruisin’ Night Tuesday Car Shows!  We offer door prizes and one special door prize thanks to our local Sanel NAPA Biddeford Auto Parts Center\, a tool box valued at $1200!  Each time you bring a car to display at our show\, you get a chance to win it!  Discounted meals and cash raffles for everyone!  A portion of our cash raffles goes to our Town of Arundel’s Holiday Program. \n  \n 
URL:https://bentleyssaloon.com/event/cruisin-night-tuesday-car-shows-2020-07-07/2020-09-15/
CATEGORIES:Car Show
ATTACH;FMTTYPE=image/jpeg:https://bentleyssaloon.com/wp-content/uploads/2020/01/2020-Cruisin_Tuesday_Car-Shows_v3.jpg-elaine-and-zoey.jpg
END:VEVENT
BEGIN:VEVENT
DTSTART;TZID=UTC:20200908T170000
DTEND;TZID=UTC:20200908T190000
DTSTAMP:20260420T124727
CREATED:20200124T110304Z
LAST-MODIFIED:20200723T171008Z
UID:10028363-1599584400-1599591600@bentleyssaloon.com
SUMMARY:Cruisin' Night Tuesday Car Shows
DESCRIPTION:Join us for our free weekly Cruisin’ Night Tuesday Car Shows!  We offer door prizes and one special door prize thanks to our local Sanel NAPA Biddeford Auto Parts Center\, a tool box valued at $1200!  Each time you bring a car to display at our show\, you get a chance to win it!  Discounted meals and cash raffles for everyone!  A portion of our cash raffles goes to our Town of Arundel’s Holiday Program. \n  \n 
URL:https://bentleyssaloon.com/event/cruisin-night-tuesday-car-shows-2020-07-07/2020-09-08/
CATEGORIES:Car Show
ATTACH;FMTTYPE=image/jpeg:https://bentleyssaloon.com/wp-content/uploads/2020/01/2020-Cruisin_Tuesday_Car-Shows_v3.jpg-elaine-and-zoey.jpg
END:VEVENT
BEGIN:VEVENT
DTSTART;TZID=UTC:20200901T170000
DTEND;TZID=UTC:20200901T190000
DTSTAMP:20260420T124727
CREATED:20200124T110304Z
LAST-MODIFIED:20200723T171008Z
UID:10028362-1598979600-1598986800@bentleyssaloon.com
SUMMARY:Cruisin' Night Tuesday Car Shows
DESCRIPTION:Join us for our free weekly Cruisin’ Night Tuesday Car Shows!  We offer door prizes and one special door prize thanks to our local Sanel NAPA Biddeford Auto Parts Center\, a tool box valued at $1200!  Each time you bring a car to display at our show\, you get a chance to win it!  Discounted meals and cash raffles for everyone!  A portion of our cash raffles goes to our Town of Arundel’s Holiday Program. \n  \n 
URL:https://bentleyssaloon.com/event/cruisin-night-tuesday-car-shows-2020-07-07/2020-09-01/
CATEGORIES:Car Show
ATTACH;FMTTYPE=image/jpeg:https://bentleyssaloon.com/wp-content/uploads/2020/01/2020-Cruisin_Tuesday_Car-Shows_v3.jpg-elaine-and-zoey.jpg
END:VEVENT
BEGIN:VEVENT
DTSTART;TZID=UTC:20200827T160000
DTEND;TZID=UTC:20200827T190000
DTSTAMP:20260420T124727
CREATED:20191004T220452Z
LAST-MODIFIED:20200804T052129Z
UID:10028226-1598544000-1598554800@bentleyssaloon.com
SUMMARY:ALL ERAS RACE CAR SHOW
DESCRIPTION:This annual June event bringing the race cars of yesterday with the race cars of today all together in one day is back on schedule for Thursday\, August 27th\, from 4 til 7 pm.  Special thanks to Steve Perry with Mainely Motorsports for making this happen!!
URL:https://bentleyssaloon.com/event/all-eras-race-car-show-2/
CATEGORIES:Car Show
ATTACH;FMTTYPE=image/jpeg:https://bentleyssaloon.com/wp-content/uploads/2020/08/AllErasRaceCar_v2.jpg
END:VEVENT
BEGIN:VEVENT
DTSTART;TZID=UTC:20200825T170000
DTEND;TZID=UTC:20200825T190000
DTSTAMP:20260420T124727
CREATED:20200124T110304Z
LAST-MODIFIED:20200723T171008Z
UID:10028361-1598374800-1598382000@bentleyssaloon.com
SUMMARY:Cruisin' Night Tuesday Car Shows
DESCRIPTION:Join us for our free weekly Cruisin’ Night Tuesday Car Shows!  We offer door prizes and one special door prize thanks to our local Sanel NAPA Biddeford Auto Parts Center\, a tool box valued at $1200!  Each time you bring a car to display at our show\, you get a chance to win it!  Discounted meals and cash raffles for everyone!  A portion of our cash raffles goes to our Town of Arundel’s Holiday Program. \n  \n 
URL:https://bentleyssaloon.com/event/cruisin-night-tuesday-car-shows-2020-07-07/2020-08-25/
CATEGORIES:Car Show
ATTACH;FMTTYPE=image/jpeg:https://bentleyssaloon.com/wp-content/uploads/2020/01/2020-Cruisin_Tuesday_Car-Shows_v3.jpg-elaine-and-zoey.jpg
END:VEVENT
BEGIN:VEVENT
DTSTART;TZID=UTC:20200818T170000
DTEND;TZID=UTC:20200818T190000
DTSTAMP:20260420T124727
CREATED:20200124T110304Z
LAST-MODIFIED:20200723T171008Z
UID:10028360-1597770000-1597777200@bentleyssaloon.com
SUMMARY:Cruisin' Night Tuesday Car Shows
DESCRIPTION:Join us for our free weekly Cruisin’ Night Tuesday Car Shows!  We offer door prizes and one special door prize thanks to our local Sanel NAPA Biddeford Auto Parts Center\, a tool box valued at $1200!  Each time you bring a car to display at our show\, you get a chance to win it!  Discounted meals and cash raffles for everyone!  A portion of our cash raffles goes to our Town of Arundel’s Holiday Program. \n  \n 
URL:https://bentleyssaloon.com/event/cruisin-night-tuesday-car-shows-2020-07-07/2020-08-18/
CATEGORIES:Car Show
ATTACH;FMTTYPE=image/jpeg:https://bentleyssaloon.com/wp-content/uploads/2020/01/2020-Cruisin_Tuesday_Car-Shows_v3.jpg-elaine-and-zoey.jpg
END:VEVENT
BEGIN:VEVENT
DTSTART;TZID=UTC:20200811T170000
DTEND;TZID=UTC:20200811T190000
DTSTAMP:20260420T124727
CREATED:20200124T110304Z
LAST-MODIFIED:20200723T171008Z
UID:10028359-1597165200-1597172400@bentleyssaloon.com
SUMMARY:Cruisin' Night Tuesday Car Shows
DESCRIPTION:Join us for our free weekly Cruisin’ Night Tuesday Car Shows!  We offer door prizes and one special door prize thanks to our local Sanel NAPA Biddeford Auto Parts Center\, a tool box valued at $1200!  Each time you bring a car to display at our show\, you get a chance to win it!  Discounted meals and cash raffles for everyone!  A portion of our cash raffles goes to our Town of Arundel’s Holiday Program. \n  \n 
URL:https://bentleyssaloon.com/event/cruisin-night-tuesday-car-shows-2020-07-07/2020-08-11/
CATEGORIES:Car Show
ATTACH;FMTTYPE=image/jpeg:https://bentleyssaloon.com/wp-content/uploads/2020/01/2020-Cruisin_Tuesday_Car-Shows_v3.jpg-elaine-and-zoey.jpg
END:VEVENT
BEGIN:VEVENT
DTSTART;TZID=UTC:20200804T170000
DTEND;TZID=UTC:20200804T190000
DTSTAMP:20260420T124727
CREATED:20200124T110304Z
LAST-MODIFIED:20200723T171008Z
UID:10028358-1596560400-1596567600@bentleyssaloon.com
SUMMARY:Cruisin' Night Tuesday Car Shows
DESCRIPTION:Join us for our free weekly Cruisin’ Night Tuesday Car Shows!  We offer door prizes and one special door prize thanks to our local Sanel NAPA Biddeford Auto Parts Center\, a tool box valued at $1200!  Each time you bring a car to display at our show\, you get a chance to win it!  Discounted meals and cash raffles for everyone!  A portion of our cash raffles goes to our Town of Arundel’s Holiday Program. \n  \n 
URL:https://bentleyssaloon.com/event/cruisin-night-tuesday-car-shows-2020-07-07/2020-08-04/
CATEGORIES:Car Show
ATTACH;FMTTYPE=image/jpeg:https://bentleyssaloon.com/wp-content/uploads/2020/01/2020-Cruisin_Tuesday_Car-Shows_v3.jpg-elaine-and-zoey.jpg
END:VEVENT
BEGIN:VEVENT
DTSTART;TZID=UTC:20200728T170000
DTEND;TZID=UTC:20200728T190000
DTSTAMP:20260420T124727
CREATED:20200124T110304Z
LAST-MODIFIED:20200723T171008Z
UID:10028357-1595955600-1595962800@bentleyssaloon.com
SUMMARY:Cruisin' Night Tuesday Car Shows
DESCRIPTION:Join us for our free weekly Cruisin’ Night Tuesday Car Shows!  We offer door prizes and one special door prize thanks to our local Sanel NAPA Biddeford Auto Parts Center\, a tool box valued at $1200!  Each time you bring a car to display at our show\, you get a chance to win it!  Discounted meals and cash raffles for everyone!  A portion of our cash raffles goes to our Town of Arundel’s Holiday Program. \n  \n 
URL:https://bentleyssaloon.com/event/cruisin-night-tuesday-car-shows-2020-07-07/2020-07-28/
CATEGORIES:Car Show
ATTACH;FMTTYPE=image/jpeg:https://bentleyssaloon.com/wp-content/uploads/2020/01/2020-Cruisin_Tuesday_Car-Shows_v3.jpg-elaine-and-zoey.jpg
END:VEVENT
BEGIN:VEVENT
DTSTART;TZID=UTC:20200721T170000
DTEND;TZID=UTC:20200721T190000
DTSTAMP:20260420T124727
CREATED:20200124T110304Z
LAST-MODIFIED:20200317T223600Z
UID:10028365-1595350800-1595358000@bentleyssaloon.com
SUMMARY:Cruisin' Night Tuesday Car Shows
DESCRIPTION:The Cruisin’ Night Tuesday show on July 21\, 2020\, features Antique Cars & Bikes.  Cars 1956 or older and motorcycles 1984 or older.  Special guest\, Wayne  Carini from the tv show “Chasing Classic Cars” is attending this show!! \nThe show on September 8\, 2020\, features trucks!  All trucks are welcome. \nAt these special feature shows\, the vehicles/bikes will be on display in front parking lot\, and trophies will be awarded for the featured vehicles.  If you are bringing a special feature vehicle\, we suggest arrival around 4 pm. \n  \n 
URL:https://bentleyssaloon.com/event/cruisin-night-tuesday-car-shows-2020-07-21/
CATEGORIES:Car Show
ATTACH;FMTTYPE=image/jpeg:https://bentleyssaloon.com/wp-content/uploads/2020/01/2020-Cruisin_Tuesday_Car-Shows.jpg
END:VEVENT
BEGIN:VEVENT
DTSTART;TZID=UTC:20200714T170000
DTEND;TZID=UTC:20200714T190000
DTSTAMP:20260420T124727
CREATED:20200124T110304Z
LAST-MODIFIED:20200723T171008Z
UID:10028356-1594746000-1594753200@bentleyssaloon.com
SUMMARY:Cruisin' Night Tuesday Car Shows
DESCRIPTION:Join us for our free weekly Cruisin’ Night Tuesday Car Shows!  We offer door prizes and one special door prize thanks to our local Sanel NAPA Biddeford Auto Parts Center\, a tool box valued at $1200!  Each time you bring a car to display at our show\, you get a chance to win it!  Discounted meals and cash raffles for everyone!  A portion of our cash raffles goes to our Town of Arundel’s Holiday Program. \n  \n 
URL:https://bentleyssaloon.com/event/cruisin-night-tuesday-car-shows-2020-07-07/2020-07-14/
CATEGORIES:Car Show
ATTACH;FMTTYPE=image/jpeg:https://bentleyssaloon.com/wp-content/uploads/2020/01/2020-Cruisin_Tuesday_Car-Shows_v3.jpg-elaine-and-zoey.jpg
END:VEVENT
BEGIN:VEVENT
DTSTART;TZID=UTC:20200707T170000
DTEND;TZID=UTC:20200707T190000
DTSTAMP:20260420T124727
CREATED:20200124T110304Z
LAST-MODIFIED:20200723T171008Z
UID:10028355-1594141200-1594148400@bentleyssaloon.com
SUMMARY:Cruisin' Night Tuesday Car Shows
DESCRIPTION:Join us for our free weekly Cruisin’ Night Tuesday Car Shows!  We offer door prizes and one special door prize thanks to our local Sanel NAPA Biddeford Auto Parts Center\, a tool box valued at $1200!  Each time you bring a car to display at our show\, you get a chance to win it!  Discounted meals and cash raffles for everyone!  A portion of our cash raffles goes to our Town of Arundel’s Holiday Program. \n  \n 
URL:https://bentleyssaloon.com/event/cruisin-night-tuesday-car-shows-2020-07-07/2020-07-07/
CATEGORIES:Car Show
ATTACH;FMTTYPE=image/jpeg:https://bentleyssaloon.com/wp-content/uploads/2020/01/2020-Cruisin_Tuesday_Car-Shows_v3.jpg-elaine-and-zoey.jpg
END:VEVENT
BEGIN:VEVENT
DTSTART;TZID=UTC:20200630T170000
DTEND;TZID=UTC:20200630T190000
DTSTAMP:20260420T124727
CREATED:20200124T110304Z
LAST-MODIFIED:20200630T162246Z
UID:10028354-1593536400-1593543600@bentleyssaloon.com
SUMMARY:Cruisin' Night Tuesday Car Show CANCELLED DUE TO WEATHER
DESCRIPTION:The Cruisin’ Night Tuesday show on July 21\, 2020\, features Antique Cars & Bikes.  Cars 1956 or older and motorcycles 1984 or older.  Special guest\, Wayne  Carini from the tv show “Chasing Classic Cars” is attending this show!! \nThe show on September 8\, 2020\, features trucks!  All trucks are welcome. \nAt these special feature shows\, the vehicles/bikes will be on display in front parking lot\, and trophies will be awarded for the featured vehicles.  If you are bringing a special feature vehicle\, we suggest arrival around 4 pm. \n  \n 
URL:https://bentleyssaloon.com/event/cruisin-night-tuesday-car-shows/
CATEGORIES:Car Show
ATTACH;FMTTYPE=image/jpeg:https://bentleyssaloon.com/wp-content/uploads/2020/06/2020-Cruisin_Tuesday_Car-Shows_v2.jpg
END:VEVENT
BEGIN:VEVENT
DTSTART;TZID=UTC:20200503T110000
DTEND;TZID=UTC:20200503T150000
DTSTAMP:20260420T124727
CREATED:20200124T105432Z
LAST-MODIFIED:20200124T105432Z
UID:10028352-1588503600-1588518000@bentleyssaloon.com
SUMMARY:First Car Show of Season
DESCRIPTION:
URL:https://bentleyssaloon.com/event/first-car-show-of-season/
CATEGORIES:Car Show
ATTACH;FMTTYPE=image/jpeg:https://bentleyssaloon.com/wp-content/uploads/2020/01/2020-Car-Shows-scaled.jpg
END:VEVENT
BEGIN:VEVENT
DTSTART;TZID=UTC:20190929T110000
DTEND;TZID=UTC:20190929T150000
DTSTAMP:20260420T124727
CREATED:20190409T210233Z
LAST-MODIFIED:20190730T235011Z
UID:10028188-1569754800-1569769200@bentleyssaloon.com
SUMMARY:SEASON END CAR SHOW (rain date Sept 29)
DESCRIPTION:BRINGING A CAR TO DISPLAY AT OUR SEASON END CAR SHOW\, COME EARLY AS IT’S USUALLY A FANTASTIC TURNOUT WITH AMAZING CARS.  FREE TO ENTER\, SPECTATOR CHOICE AWARDS\, DISCOUNTED MEALS FOR CAR SHOW OWNERS & THEIR GUESTS\, DOOR PRIZES\, CASH RAFFLES & WE DRAW THE WINNING TICKET FOR THE UPSCALE TOOLBOX THANKS TO OUR LOCAL SANEL NAPA AUTO PARTS CENTER MANAGER JEFF FROM THE BIDDEFORD STORE!!  (rain date Sept 29) All-you-can-eat breakfast buffet with made to order omelets and bottomless coffee served 8 am til 11:30 am.  Memphis Lightning performs 1 til 5 pm!  This typically is our biggest show of the season with hundreds of cars on display! \n  \n  \n 
URL:https://bentleyssaloon.com/event/season-end-car-show-2019-09-29/
LOCATION:Bentley’s Saloon\, 1601 Portland Road\, Arundel\, ME\, 04046
CATEGORIES:Car Show
ATTACH;FMTTYPE=image/jpeg:https://bentleyssaloon.com/wp-content/uploads/2019/04/2019-Season-End-Car-Show.jpg
END:VEVENT
BEGIN:VEVENT
DTSTART;TZID=UTC:20190922T110000
DTEND;TZID=UTC:20190922T150000
DTSTAMP:20260420T124727
CREATED:20190409T210233Z
LAST-MODIFIED:20190730T234832Z
UID:10027931-1569150000-1569164400@bentleyssaloon.com
SUMMARY:SEASON END CAR SHOW (rain date Sept 29)
DESCRIPTION:BRINGING A CAR TO DISPLAY AT OUR SEASON END CAR SHOW\, COME EARLY AS IT’S USUALLY A FANTASTIC TURNOUT WITH AMAZING CARS.  FREE TO ENTER\, SPECTATOR CHOICE AWARDS\, DISCOUNTED MEALS FOR CAR SHOW OWNERS & THEIR GUESTS\, DOOR PRIZES\, CASH RAFFLES & WE DRAW THE WINNING TICKET FOR THE UPSCALE TOOLBOX THANKS TO OUR LOCAL SANEL NAPA AUTO PARTS CENTER MANAGER JEFF FROM THE BIDDEFORD STORE!!  (rain date Sept 29) All-you-can-eat breakfast buffet with made to order omelets and bottomless coffee served 8 am til 11:30 am.  Memphis Lightning performs 1 til 5 pm!  This typically is our biggest show of the season with hundreds of cars on display! \n  \n 
URL:https://bentleyssaloon.com/event/season-end-car-show/
LOCATION:Bentley’s Saloon\, 1601 Portland Road\, Arundel\, ME\, 04046
CATEGORIES:Car Show
ATTACH;FMTTYPE=image/jpeg:https://bentleyssaloon.com/wp-content/uploads/2019/04/2019-Season-End-Car-Show.jpg
END:VEVENT
BEGIN:VEVENT
DTSTART;TZID=UTC:20190605T160000
DTEND;TZID=UTC:20190605T190000
DTSTAMP:20260420T124727
CREATED:20190405T045628Z
LAST-MODIFIED:20190405T045628Z
UID:10027903-1559750400-1559761200@bentleyssaloon.com
SUMMARY:ALL ERAS RACE CAR SHOW
DESCRIPTION:BRINGING THE RACE CARS & DRIVERS OF YESTERYEAR WITH THE RACE CARS & DRIVERS OF TODAY.  Bringing a car to show\, come early to set up.
URL:https://bentleyssaloon.com/event/all-eras-race-car-show/
LOCATION:Bentley’s Saloon\, 1601 Portland Road\, Arundel\, ME\, 04046
CATEGORIES:Car Show
ATTACH;FMTTYPE=image/jpeg:https://bentleyssaloon.com/wp-content/uploads/2019/04/2019-AllErasRaceCar.jpg
END:VEVENT
BEGIN:VEVENT
DTSTART;TZID=UTC:20190512T110000
DTEND;TZID=UTC:20190512T150000
DTSTAMP:20260420T124727
CREATED:20190414T055301Z
LAST-MODIFIED:20190414T055301Z
UID:10028178-1557658800-1557673200@bentleyssaloon.com
SUMMARY:SEASON OPEN CAR SHOW (rain date)
DESCRIPTION:
URL:https://bentleyssaloon.com/event/season-open-car-show-rain-date/
LOCATION:Bentley’s Saloon\, 1601 Portland Road\, Arundel\, ME\, 04046
CATEGORIES:Car Show
ATTACH;FMTTYPE=image/jpeg:https://bentleyssaloon.com/wp-content/uploads/2019/04/2019-SO-Car-Show-1.jpg
END:VEVENT
END:VCALENDAR