BEGIN:VCALENDAR
VERSION:2.0
PRODID:-//Bentley&#039;s Saloon - ECPv6.15.20//NONSGML v1.0//EN
CALSCALE:GREGORIAN
METHOD:PUBLISH
X-WR-CALNAME:Bentley&#039;s Saloon
X-ORIGINAL-URL:https://bentleyssaloon.com
X-WR-CALDESC:Events for Bentley&#039;s Saloon
REFRESH-INTERVAL;VALUE=DURATION:PT1H
X-Robots-Tag:noindex
X-PUBLISHED-TTL:PT1H
BEGIN:VTIMEZONE
TZID:UTC
BEGIN:STANDARD
TZOFFSETFROM:+0000
TZOFFSETTO:+0000
TZNAME:UTC
DTSTART:20220101T000000
END:STANDARD
END:VTIMEZONE
BEGIN:VEVENT
DTSTART;TZID=UTC:20230507T100000
DTEND;TZID=UTC:20230507T140000
DTSTAMP:20260421T002154
CREATED:20221122T052846Z
LAST-MODIFIED:20230425T231635Z
UID:10028952-1683453600-1683468000@bentleyssaloon.com
SUMMARY:First Car Show of Season
DESCRIPTION:Our First Car Show of the Season\, May 7\, 2023 (rain date May 14) is one of our favorite days to kick off the beginning of the new season with a reunion of all car enthusiasts to show off their special interest vehicles at the Saloon’s parking lots. Then every Tuesday from 5 pm til dusk (starts May 16 through Sept 19\, 2023)\, we get together weekly to enjoy the shows and camaraderie. Often times there are more than 100 cars on display! There are no entry fees for car show owners or spectators. Car show owners receive door prizes\, spectator choice awards and a chance to win a FREE toolbox valued at $1\,000.  We offer cash raffles for everyone to play and donate a portion of the money to our Town of Arundel’s Holiday Program for local residents in need of a helping hand during the holiday season. \nIf you’re bringing a car to our first show\, come early!  It’s usually a busy day\, especially when the weather is favorable.  We serve breakfast from 8 til 11 am. \n 
URL:https://bentleyssaloon.com/event/first-car-show-of-season-2/
CATEGORIES:Car Show
ATTACH;FMTTYPE=image/jpeg:https://bentleyssaloon.com/wp-content/uploads/2022/11/2023-SeasonOpenCarShow-scaled.jpg
END:VEVENT
END:VCALENDAR