BEGIN:VCALENDAR
VERSION:2.0
PRODID:-//Bentley&#039;s Saloon - ECPv6.15.20//NONSGML v1.0//EN
CALSCALE:GREGORIAN
METHOD:PUBLISH
X-ORIGINAL-URL:https://bentleyssaloon.com
X-WR-CALDESC:Events for Bentley&#039;s Saloon
REFRESH-INTERVAL;VALUE=DURATION:PT1H
X-Robots-Tag:noindex
X-PUBLISHED-TTL:PT1H
BEGIN:VTIMEZONE
TZID:UTC
BEGIN:STANDARD
TZOFFSETFROM:+0000
TZOFFSETTO:+0000
TZNAME:UTC
DTSTART:20200101T000000
END:STANDARD
END:VTIMEZONE
BEGIN:VEVENT
DTSTART;TZID=UTC:20210724T140000
DTEND;TZID=UTC:20210724T180000
DTSTAMP:20260425T153717
CREATED:20210401T065525Z
LAST-MODIFIED:20210401T065525Z
UID:10028687-1627135200-1627149600@bentleyssaloon.com
SUMMARY:Hit Squad
DESCRIPTION:Local Rock\, Classic Rock\, Hard/Modern Rock Cover Band from Boston\, Massachusetts.
URL:https://bentleyssaloon.com/event/hit-squad/
CATEGORIES:Live Music
ATTACH;FMTTYPE=image/jpeg:https://bentleyssaloon.com/wp-content/uploads/2021/04/Hit-Squad2.jpg
END:VEVENT
BEGIN:VEVENT
DTSTART;TZID=UTC:20210724T190000
DTEND;TZID=UTC:20210724T230000
DTSTAMP:20260425T153717
CREATED:20200116T103828Z
LAST-MODIFIED:20210401T234027Z
UID:10028288-1627153200-1627167600@bentleyssaloon.com
SUMMARY:Rage
DESCRIPTION:Bad boys from Boston are back with former members of Aerosmith’s Joe Perry Project and Boston Band Extreme.
URL:https://bentleyssaloon.com/event/rage-6/
CATEGORIES:Live Music
ATTACH;FMTTYPE=image/jpeg:https://bentleyssaloon.com/wp-content/uploads/2019/04/rage.jpg
END:VEVENT
END:VCALENDAR