BEGIN:VCALENDAR
VERSION:2.0
PRODID:-//Bentley&#039;s Saloon - ECPv6.15.20//NONSGML v1.0//EN
CALSCALE:GREGORIAN
METHOD:PUBLISH
X-WR-CALNAME:Bentley&#039;s Saloon
X-ORIGINAL-URL:https://bentleyssaloon.com
X-WR-CALDESC:Events for Bentley&#039;s Saloon
REFRESH-INTERVAL;VALUE=DURATION:PT1H
X-Robots-Tag:noindex
X-PUBLISHED-TTL:PT1H
BEGIN:VTIMEZONE
TZID:UTC
BEGIN:STANDARD
TZOFFSETFROM:+0000
TZOFFSETTO:+0000
TZNAME:UTC
DTSTART:20200101T000000
END:STANDARD
END:VTIMEZONE
BEGIN:VEVENT
DTSTART;TZID=UTC:20210828T140000
DTEND;TZID=UTC:20210828T180000
DTSTAMP:20260423T230249
CREATED:20200127T235522Z
LAST-MODIFIED:20220222T070542Z
UID:10028675-1630159200-1630173600@bentleyssaloon.com
SUMMARY:Dave Berry Band
DESCRIPTION:Rock\, rhythm and blues with smooth silky guitar & saxaphone.
URL:https://bentleyssaloon.com/event/bad-medicine-band-2021-08-28/2021-08-28/
CATEGORIES:Live Music
ATTACH;FMTTYPE=image/jpeg:https://bentleyssaloon.com/wp-content/uploads/2020/01/dave-berry-band-1.jpg
END:VEVENT
BEGIN:VEVENT
DTSTART;TZID=UTC:20210828T190000
DTEND;TZID=UTC:20210828T230000
DTSTAMP:20260423T230249
CREATED:20200116T104248Z
LAST-MODIFIED:20220226T085331Z
UID:10028289-1630177200-1630191600@bentleyssaloon.com
SUMMARY:LA Harley Band
DESCRIPTION:LA Harley Band is Maine’s premier dance/party rock band!! The stage is where the band truly comes to life. Renowned for blending Rock\, Country\, and Pop into a driving\, energized evening. They have opened for acts such as Parmalee and Josh Turner!!
URL:https://bentleyssaloon.com/event/la-harley-band-2020-06-14/2021-08-28/
CATEGORIES:Live Music
ATTACH;FMTTYPE=image/jpeg:https://bentleyssaloon.com/wp-content/uploads/2019/03/LA-HARLEY-BAND.jpg
END:VEVENT
END:VCALENDAR