BEGIN:VCALENDAR
VERSION:2.0
PRODID:-//Bentley&#039;s Saloon - ECPv6.15.20//NONSGML v1.0//EN
CALSCALE:GREGORIAN
METHOD:PUBLISH
X-ORIGINAL-URL:https://bentleyssaloon.com
X-WR-CALDESC:Events for Bentley&#039;s Saloon
REFRESH-INTERVAL;VALUE=DURATION:PT1H
X-Robots-Tag:noindex
X-PUBLISHED-TTL:PT1H
BEGIN:VTIMEZONE
TZID:UTC
BEGIN:STANDARD
TZOFFSETFROM:+0000
TZOFFSETTO:+0000
TZNAME:UTC
DTSTART:20200101T000000
END:STANDARD
END:VTIMEZONE
BEGIN:VEVENT
DTSTART;TZID=UTC:20210904T140000
DTEND;TZID=UTC:20210904T180000
DTSTAMP:20260421T035004
CREATED:20190407T072349Z
LAST-MODIFIED:20210401T065003Z
UID:10027863-1630764000-1630778400@bentleyssaloon.com
SUMMARY:SOUTHERN BREEZE
DESCRIPTION:New England-based quintet that plays tribute to the finest southern rock bands of all time. LYNYRD SKYNYRD. Southern Breeze delivers it with all of the passion and energy of the originals.
URL:https://bentleyssaloon.com/event/southern-breeze/2021-09-04/
LOCATION:Bentley’s Saloon\, 1601 Portland Road\, Arundel\, ME\, 04046
CATEGORIES:Live Music,Southern Rock
ATTACH;FMTTYPE=image/jpeg:https://bentleyssaloon.com/wp-content/uploads/2019/04/SOUTHERN-BREEZE.jpg
END:VEVENT
BEGIN:VEVENT
DTSTART;TZID=UTC:20210904T190000
DTEND;TZID=UTC:20210904T230000
DTSTAMP:20260421T035004
CREATED:20200112T084620Z
LAST-MODIFIED:20210902T060445Z
UID:10028261-1630782000-1630796400@bentleyssaloon.com
SUMMARY:Northern Charm
DESCRIPTION:Power house vocals and great dance music
URL:https://bentleyssaloon.com/event/stolen-mojo-4-2020-06-16-2021-09-04/
CATEGORIES:Live Music,Variety
ATTACH;FMTTYPE=image/jpeg:https://bentleyssaloon.com/wp-content/uploads/2020/01/northern-charm.jpg
END:VEVENT
END:VCALENDAR