BEGIN:VCALENDAR
VERSION:2.0
PRODID:-//Bentley&#039;s Saloon - ECPv6.15.20//NONSGML v1.0//EN
CALSCALE:GREGORIAN
METHOD:PUBLISH
X-WR-CALNAME:Bentley&#039;s Saloon
X-ORIGINAL-URL:https://bentleyssaloon.com
X-WR-CALDESC:Events for Bentley&#039;s Saloon
REFRESH-INTERVAL;VALUE=DURATION:PT1H
X-Robots-Tag:noindex
X-PUBLISHED-TTL:PT1H
BEGIN:VTIMEZONE
TZID:UTC
BEGIN:STANDARD
TZOFFSETFROM:+0000
TZOFFSETTO:+0000
TZNAME:UTC
DTSTART:20200101T000000
END:STANDARD
END:VTIMEZONE
BEGIN:VEVENT
DTSTART;TZID=UTC:20210911T140000
DTEND;TZID=UTC:20210911T180000
DTSTAMP:20260421T020010
CREATED:20200723T205223Z
LAST-MODIFIED:20220312T075008Z
UID:10028650-1631368800-1631383200@bentleyssaloon.com
SUMMARY:Rosie Band
DESCRIPTION:Local band from southern New Hampshire playing mostly high energy classic rock
URL:https://bentleyssaloon.com/event/lonnie-wescott-duo-2-2021-09-11/2021-09-11/
CATEGORIES:Live Music
ATTACH;FMTTYPE=image/jpeg:https://bentleyssaloon.com/wp-content/uploads/2020/07/Rosie-at-saloon.jpg
END:VEVENT
BEGIN:VEVENT
DTSTART;TZID=UTC:20210911T190000
DTEND;TZID=UTC:20210911T230000
DTSTAMP:20260421T020010
CREATED:20200116T113508Z
LAST-MODIFIED:20220225T063626Z
UID:10028246-1631386800-1631401200@bentleyssaloon.com
SUMMARY:Dakota
DESCRIPTION:Rock cover band with one of the biggest stage shows and song selections in Maine! They make it feel and sound like a concert! Remember\, “Dakota: Huge Look\, Huge Sound\, Huge Fun!”
URL:https://bentleyssaloon.com/event/dakota-4-2021-07-16/2021-09-11/
CATEGORIES:Live Music
ATTACH;FMTTYPE=image/jpeg:https://bentleyssaloon.com/wp-content/uploads/2020/01/dakota.jpg
END:VEVENT
END:VCALENDAR