BEGIN:VCALENDAR
VERSION:2.0
PRODID:-//Bentley&#039;s Saloon - ECPv6.15.20//NONSGML v1.0//EN
CALSCALE:GREGORIAN
METHOD:PUBLISH
X-WR-CALNAME:Bentley&#039;s Saloon
X-ORIGINAL-URL:https://bentleyssaloon.com
X-WR-CALDESC:Events for Bentley&#039;s Saloon
REFRESH-INTERVAL;VALUE=DURATION:PT1H
X-Robots-Tag:noindex
X-PUBLISHED-TTL:PT1H
BEGIN:VTIMEZONE
TZID:UTC
BEGIN:STANDARD
TZOFFSETFROM:+0000
TZOFFSETTO:+0000
TZNAME:UTC
DTSTART:20200101T000000
END:STANDARD
END:VTIMEZONE
BEGIN:VEVENT
DTSTART;TZID=UTC:20210919T130000
DTEND;TZID=UTC:20210919T170000
DTSTAMP:20260421T020021
CREATED:20200723T175426Z
LAST-MODIFIED:20220226T093510Z
UID:10028724-1632056400-1632070800@bentleyssaloon.com
SUMMARY:Texas Pete Band
DESCRIPTION:Country & southern rock musicians from Southern Maine.
URL:https://bentleyssaloon.com/event/texas-pete-trio-2020-10-16-2021-06-15-2/2021-09-19/
CATEGORIES:Live Music
ATTACH;FMTTYPE=image/jpeg:https://bentleyssaloon.com/wp-content/uploads/2020/07/texas-pete-1.jpg
END:VEVENT
BEGIN:VEVENT
DTSTART;TZID=UTC:20210919T130000
DTEND;TZID=UTC:20210919T200000
DTSTAMP:20260421T020021
CREATED:20210917T035925Z
LAST-MODIFIED:20210929T010940Z
UID:10028320-1632056400-1632081600@bentleyssaloon.com
SUMMARY:NFL & NASCAR Sundays
DESCRIPTION:Join us at the back bar on Sunday afternoons to watch NFL & NASCAR racing on our Big Screen and tvs.
URL:https://bentleyssaloon.com/event/nfl-on-big-screen/2021-09-19/
CATEGORIES:Variety
ATTACH;FMTTYPE=image/jpeg:https://bentleyssaloon.com/wp-content/uploads/2021/09/2021-Football-Sundays_v2-scaled-scaled.jpg
END:VEVENT
BEGIN:VEVENT
DTSTART;TZID=UTC:20210919T170000
DTEND;TZID=UTC:20210919T200000
DTSTAMP:20260421T020021
CREATED:20200128T225806Z
LAST-MODIFIED:20220827T200604Z
UID:10028518-1632070800-1632081600@bentleyssaloon.com
SUMMARY:The Randy & Brad Duo
DESCRIPTION:Classic and Contemporary Rock Duo with Vocals\, Keyboards\, Sax\, Flute and Drums.
URL:https://bentleyssaloon.com/event/northern-groove-2-2020-09-18/2021-09-19/
CATEGORIES:Live Music
ATTACH;FMTTYPE=image/jpeg:https://bentleyssaloon.com/wp-content/uploads/2020/01/Brad-and-Randy.jpg
END:VEVENT
END:VCALENDAR