BEGIN:VCALENDAR
VERSION:2.0
PRODID:-//Bentley&#039;s Saloon - ECPv6.15.20//NONSGML v1.0//EN
CALSCALE:GREGORIAN
METHOD:PUBLISH
X-WR-CALNAME:Bentley&#039;s Saloon
X-ORIGINAL-URL:https://bentleyssaloon.com
X-WR-CALDESC:Events for Bentley&#039;s Saloon
REFRESH-INTERVAL;VALUE=DURATION:PT1H
X-Robots-Tag:noindex
X-PUBLISHED-TTL:PT1H
BEGIN:VTIMEZONE
TZID:UTC
BEGIN:STANDARD
TZOFFSETFROM:+0000
TZOFFSETTO:+0000
TZNAME:UTC
DTSTART:20200101T000000
END:STANDARD
END:VTIMEZONE
BEGIN:VEVENT
DTSTART;TZID=UTC:20210924T190000
DTEND;TZID=UTC:20210924T230000
DTSTAMP:20260421T020028
CREATED:20200116T102900Z
LAST-MODIFIED:20210929T011132Z
UID:10028285-1632510000-1632524400@bentleyssaloon.com
SUMMARY:13 Black
DESCRIPTION:Southern Maine band playing rock covers from the 90’s and more!
URL:https://bentleyssaloon.com/event/13-black-3/2021-09-24/
CATEGORIES:Live Music
ATTACH;FMTTYPE=image/jpeg:https://bentleyssaloon.com/wp-content/uploads/2020/01/13-black.jpg
END:VEVENT
END:VCALENDAR