BEGIN:VCALENDAR
VERSION:2.0
PRODID:-//Bentley&#039;s Saloon - ECPv6.15.20//NONSGML v1.0//EN
CALSCALE:GREGORIAN
METHOD:PUBLISH
X-WR-CALNAME:Bentley&#039;s Saloon
X-ORIGINAL-URL:https://bentleyssaloon.com
X-WR-CALDESC:Events for Bentley&#039;s Saloon
REFRESH-INTERVAL;VALUE=DURATION:PT1H
X-Robots-Tag:noindex
X-PUBLISHED-TTL:PT1H
BEGIN:VTIMEZONE
TZID:UTC
BEGIN:STANDARD
TZOFFSETFROM:+0000
TZOFFSETTO:+0000
TZNAME:UTC
DTSTART:20200101T000000
END:STANDARD
END:VTIMEZONE
BEGIN:VEVENT
DTSTART;TZID=UTC:20210926T130000
DTEND;TZID=UTC:20210926T200000
DTSTAMP:20260420T224424
CREATED:20210917T035925Z
LAST-MODIFIED:20210929T010940Z
UID:10028321-1632661200-1632686400@bentleyssaloon.com
SUMMARY:NFL & NASCAR Sundays
DESCRIPTION:Join us at the back bar on Sunday afternoons to watch NFL & NASCAR racing on our Big Screen and tvs.
URL:https://bentleyssaloon.com/event/nfl-on-big-screen/2021-09-26/
CATEGORIES:Variety
ATTACH;FMTTYPE=image/jpeg:https://bentleyssaloon.com/wp-content/uploads/2021/09/2021-Football-Sundays_v2-scaled-scaled.jpg
END:VEVENT
BEGIN:VEVENT
DTSTART;TZID=UTC:20210926T170000
DTEND;TZID=UTC:20210926T200000
DTSTAMP:20260420T224424
CREATED:20210401T050151Z
LAST-MODIFIED:20220311T012951Z
UID:10028272-1632675600-1632686400@bentleyssaloon.com
SUMMARY:Redneck Duo
DESCRIPTION:Redneck Duo members from Nouvea Redneck Band – “Our band started on a cold morning on January 31\,2011 over a Raging Bitch IPA on a snowy porch. Come see us and you’ll hear the rest of the story. We play music we like to hear and that we hope you want to hear. Our focus is the best classic rock and county we can find. We like to stray some from the typical bar band set lists to provide you with some variety. We are Nouveau Redneck.”
URL:https://bentleyssaloon.com/event/redneck-duo/2021-09-26/
CATEGORIES:Live Music
ATTACH;FMTTYPE=image/jpeg:https://bentleyssaloon.com/wp-content/uploads/2021/04/red-neck-duo.jpg
END:VEVENT
END:VCALENDAR