BEGIN:VCALENDAR
VERSION:2.0
PRODID:-//Bentley&#039;s Saloon - ECPv6.15.20//NONSGML v1.0//EN
CALSCALE:GREGORIAN
METHOD:PUBLISH
X-ORIGINAL-URL:https://bentleyssaloon.com
X-WR-CALDESC:Events for Bentley&#039;s Saloon
REFRESH-INTERVAL;VALUE=DURATION:PT1H
X-Robots-Tag:noindex
X-PUBLISHED-TTL:PT1H
BEGIN:VTIMEZONE
TZID:UTC
BEGIN:STANDARD
TZOFFSETFROM:+0000
TZOFFSETTO:+0000
TZNAME:UTC
DTSTART:20200101T000000
END:STANDARD
END:VTIMEZONE
BEGIN:VEVENT
DTSTART;TZID=UTC:20211002T140000
DTEND;TZID=UTC:20211002T180000
DTSTAMP:20260420T224720
CREATED:20190409T032752Z
LAST-MODIFIED:20220226T090701Z
UID:10027918-1633183200-1633197600@bentleyssaloon.com
SUMMARY:FREIGHT TRAIN
DESCRIPTION:A collection of seasoned musicians based in the Southern Maine and the New Hampshire Seacoast\, playing unique versions of rock and blues classics.
URL:https://bentleyssaloon.com/event/freight-train/2021-10-02/
LOCATION:Bentley’s Saloon\, 1601 Portland Road\, Arundel\, ME\, 04046
CATEGORIES:Live Music,Variety
ATTACH;FMTTYPE=image/jpeg:https://bentleyssaloon.com/wp-content/uploads/2019/04/FREIGHT-TRAIN.jpg
END:VEVENT
BEGIN:VEVENT
DTSTART;TZID=UTC:20211002T190000
DTEND;TZID=UTC:20211002T230000
DTSTAMP:20260420T224720
CREATED:20200116T104248Z
LAST-MODIFIED:20220222T072408Z
UID:10028705-1633201200-1633215600@bentleyssaloon.com
SUMMARY:Southern Breeze
DESCRIPTION:New England-based quintet that plays tribute to the finest southern rock bands of all time. LYNYRD SKYNYRD. Southern Breeze delivers it with all of the passion and energy of the originals.
URL:https://bentleyssaloon.com/event/la-harley-band-2020-06-14-2021-10-02/2021-10-02/
CATEGORIES:Live Music
ATTACH;FMTTYPE=image/jpeg:https://bentleyssaloon.com/wp-content/uploads/2019/04/SOUTHERN-BREEZE.jpg
END:VEVENT
END:VCALENDAR