BEGIN:VCALENDAR
VERSION:2.0
PRODID:-//Bentley&#039;s Saloon - ECPv6.15.20//NONSGML v1.0//EN
CALSCALE:GREGORIAN
METHOD:PUBLISH
X-ORIGINAL-URL:https://bentleyssaloon.com
X-WR-CALDESC:Events for Bentley&#039;s Saloon
REFRESH-INTERVAL;VALUE=DURATION:PT1H
X-Robots-Tag:noindex
X-PUBLISHED-TTL:PT1H
BEGIN:VTIMEZONE
TZID:UTC
BEGIN:STANDARD
TZOFFSETFROM:+0000
TZOFFSETTO:+0000
TZNAME:UTC
DTSTART:20200101T000000
END:STANDARD
END:VTIMEZONE
BEGIN:VEVENT
DTSTART;TZID=UTC:20211023T190000
DTEND;TZID=UTC:20211023T220000
DTSTAMP:20260420T224652
CREATED:20211005T030959Z
LAST-MODIFIED:20220222T074006Z
UID:10028778-1635015600-1635026400@bentleyssaloon.com
SUMMARY:Contagious Band
DESCRIPTION:Four-person machine playing music from the ’70s through today.
URL:https://bentleyssaloon.com/event/contagious-band/2021-10-23/
CATEGORIES:Live Music
END:VEVENT
END:VCALENDAR