BEGIN:VCALENDAR
VERSION:2.0
PRODID:-//Bentley&#039;s Saloon - ECPv6.15.20//NONSGML v1.0//EN
CALSCALE:GREGORIAN
METHOD:PUBLISH
X-ORIGINAL-URL:https://bentleyssaloon.com
X-WR-CALDESC:Events for Bentley&#039;s Saloon
REFRESH-INTERVAL;VALUE=DURATION:PT1H
X-Robots-Tag:noindex
X-PUBLISHED-TTL:PT1H
BEGIN:VTIMEZONE
TZID:UTC
BEGIN:STANDARD
TZOFFSETFROM:+0000
TZOFFSETTO:+0000
TZNAME:UTC
DTSTART:20200101T000000
END:STANDARD
END:VTIMEZONE
BEGIN:VEVENT
DTSTART;TZID=UTC:20211030T190000
DTEND;TZID=UTC:20211030T220000
DTSTAMP:20260420T104730
CREATED:20210924T233449Z
LAST-MODIFIED:20220228T092642Z
UID:10028349-1635620400-1635631200@bentleyssaloon.com
SUMMARY:Money Kat
DESCRIPTION:Current-to-classic hits  – Rock\, Country\, Dance\, Pop\, R & B  All your favorites!
URL:https://bentleyssaloon.com/event/money-kat/2021-10-30/
CATEGORIES:Live Music
ATTACH;FMTTYPE=image/jpeg:https://bentleyssaloon.com/wp-content/uploads/2021/09/money-kat.jpg
END:VEVENT
END:VCALENDAR