BEGIN:VCALENDAR
VERSION:2.0
PRODID:-//Bentley&#039;s Saloon - ECPv6.15.20//NONSGML v1.0//EN
CALSCALE:GREGORIAN
METHOD:PUBLISH
X-WR-CALNAME:Bentley&#039;s Saloon
X-ORIGINAL-URL:https://bentleyssaloon.com
X-WR-CALDESC:Events for Bentley&#039;s Saloon
REFRESH-INTERVAL;VALUE=DURATION:PT1H
X-Robots-Tag:noindex
X-PUBLISHED-TTL:PT1H
BEGIN:VTIMEZONE
TZID:UTC
BEGIN:STANDARD
TZOFFSETFROM:+0000
TZOFFSETTO:+0000
TZNAME:UTC
DTSTART:20250101T000000
END:STANDARD
END:VTIMEZONE
BEGIN:VEVENT
DTSTART;TZID=UTC:20260925T190000
DTEND;TZID=UTC:20260925T230000
DTSTAMP:20260419T230746
CREATED:20240319T194750Z
LAST-MODIFIED:20260302T145654Z
UID:10028850-1790362800-1790377200@bentleyssaloon.com
SUMMARY:Actin' Up
DESCRIPTION:  \nHard rock tunes with a funky edge!
URL:https://bentleyssaloon.com/event/actin-up-2/
LOCATION:ME
CATEGORIES:Live Music,Rock N Roll
ATTACH;FMTTYPE=image/jpeg:https://bentleyssaloon.com/wp-content/uploads/2021/10/ACTIN-UP-1.jpg
END:VEVENT
END:VCALENDAR