BEGIN:VCALENDAR
VERSION:2.0
PRODID:-//Bentley&#039;s Saloon - ECPv6.15.20//NONSGML v1.0//EN
CALSCALE:GREGORIAN
METHOD:PUBLISH
X-WR-CALNAME:Bentley&#039;s Saloon
X-ORIGINAL-URL:https://bentleyssaloon.com
X-WR-CALDESC:Events for Bentley&#039;s Saloon
REFRESH-INTERVAL;VALUE=DURATION:PT1H
X-Robots-Tag:noindex
X-PUBLISHED-TTL:PT1H
BEGIN:VTIMEZONE
TZID:UTC
BEGIN:STANDARD
TZOFFSETFROM:+0000
TZOFFSETTO:+0000
TZNAME:UTC
DTSTART:20200101T000000
END:STANDARD
END:VTIMEZONE
BEGIN:VEVENT
DTSTART;TZID=UTC:20211010T130000
DTEND;TZID=UTC:20211010T170000
DTSTAMP:20260421T121236
CREATED:20191223T082746Z
LAST-MODIFIED:20220128T210634Z
UID:10028242-1633870800-1633885200@bentleyssaloon.com
SUMMARY:Walkin' The Line
DESCRIPTION:High energy country rock band taking New England by storm! Bringing years of experience with some of the best bands around and opening for country legends like Charlie Daniels\, Lorrie Morgan & Travis Tritt to name a few.
URL:https://bentleyssaloon.com/event/walkin-the-line-3/2021-10-10/
CATEGORIES:Country,Live Music
ATTACH;FMTTYPE=image/jpeg:https://bentleyssaloon.com/wp-content/uploads/2019/04/WALKIN-THE-LINE-WITH-BENTLEY.jpg
END:VEVENT
BEGIN:VEVENT
DTSTART;TZID=UTC:20211010T130000
DTEND;TZID=UTC:20211010T200000
DTSTAMP:20260421T121236
CREATED:20210917T035925Z
LAST-MODIFIED:20210929T010940Z
UID:10028323-1633870800-1633896000@bentleyssaloon.com
SUMMARY:NFL & NASCAR Sundays
DESCRIPTION:Join us at the back bar on Sunday afternoons to watch NFL & NASCAR racing on our Big Screen and tvs.
URL:https://bentleyssaloon.com/event/nfl-on-big-screen/2021-10-10/
CATEGORIES:Variety
ATTACH;FMTTYPE=image/jpeg:https://bentleyssaloon.com/wp-content/uploads/2021/09/2021-Football-Sundays_v2-scaled-scaled.jpg
END:VEVENT
BEGIN:VEVENT
DTSTART;TZID=UTC:20211010T170000
DTEND;TZID=UTC:20211010T200000
DTSTAMP:20260421T121236
CREATED:20200910T042532Z
LAST-MODIFIED:20220222T073038Z
UID:10028197-1633885200-1633896000@bentleyssaloon.com
SUMMARY:Bryan Frates & Eric from American Ride
DESCRIPTION:Dynamic duo!
URL:https://bentleyssaloon.com/event/bryan-frates-eric-from-american-ride/2021-10-10/
CATEGORIES:Live Music
ATTACH;FMTTYPE=image/jpeg:https://bentleyssaloon.com/wp-content/uploads/2020/09/BRYAN-FRATES-WITH-ERIC-scaled.jpg
END:VEVENT
BEGIN:VEVENT
DTSTART;TZID=UTC:20211011T130000
DTEND;TZID=UTC:20211011T170000
DTSTAMP:20260421T121236
CREATED:20210820T232410Z
LAST-MODIFIED:20220222T084323Z
UID:10028312-1633957200-1633971600@bentleyssaloon.com
SUMMARY:Bonnie Edwards & the Practical Cats
DESCRIPTION:These seasoned musicians lay down a groove! With her gutsy vocal style and dynamic stage presence\, Bonnie puts her heart and soul in each performance. The Cats provide their unique style of Blues\, Jump Swing\, Jazz\,Vintage R&B and original music. \n  \nCheck out their website\, click here.
URL:https://bentleyssaloon.com/event/bonnie-edwards-the-practical-cats/2021-10-11/
CATEGORIES:Live Music
ATTACH;FMTTYPE=image/jpeg:https://bentleyssaloon.com/wp-content/uploads/2021/08/bonnie-edwards-and-the-practical-cats.jpg
END:VEVENT
BEGIN:VEVENT
DTSTART;TZID=UTC:20211013T180000
DTEND;TZID=UTC:20211013T210000
DTSTAMP:20260421T121236
CREATED:20210701T225012Z
LAST-MODIFIED:20210820T040128Z
UID:10028770-1634148000-1634158800@bentleyssaloon.com
SUMMARY:Hump Day Blues\, Old School Rock & Blues Music
DESCRIPTION:
URL:https://bentleyssaloon.com/event/hump-day-blues-blues-night-music-2/2021-10-13/
CATEGORIES:Live Music
ATTACH;FMTTYPE=image/jpeg:https://bentleyssaloon.com/wp-content/uploads/2021/07/2021-Hump-Dump-Blues_v2-scaled.jpg
END:VEVENT
BEGIN:VEVENT
DTSTART;TZID=UTC:20211014T180000
DTEND;TZID=UTC:20211014T210000
DTSTAMP:20260421T121236
CREATED:20200215T235051Z
LAST-MODIFIED:20210709T221145Z
UID:10028556-1634234400-1634245200@bentleyssaloon.com
SUMMARY:Karaoke Annie
DESCRIPTION:
URL:https://bentleyssaloon.com/event/karaoke-annie-2020-09-10/2021-10-14/
CATEGORIES:Karaoke
ATTACH;FMTTYPE=image/jpeg:https://bentleyssaloon.com/wp-content/uploads/2021/07/2021-Karaoke-Annie.jpg
END:VEVENT
BEGIN:VEVENT
DTSTART;TZID=UTC:20211014T180000
DTEND;TZID=UTC:20211014T210000
DTSTAMP:20260421T121236
CREATED:20200215T235051Z
LAST-MODIFIED:20210701T195705Z
UID:10028716-1634234400-1634245200@bentleyssaloon.com
SUMMARY:Karaoke Annie
DESCRIPTION:
URL:https://bentleyssaloon.com/event/karaoke-annie-2020-09-10-2021-10-07/
CATEGORIES:Karaoke
ATTACH;FMTTYPE=image/jpeg:https://bentleyssaloon.com/wp-content/uploads/2020/02/annie.jpg
END:VEVENT
BEGIN:VEVENT
DTSTART;TZID=UTC:20211015T190000
DTEND;TZID=UTC:20211015T230000
DTSTAMP:20260421T121236
CREATED:20210401T215146Z
LAST-MODIFIED:20220312T080535Z
UID:10028699-1634324400-1634338800@bentleyssaloon.com
SUMMARY:Bulletproof
DESCRIPTION:Bulletproof is a hard hitting Country Rock cover band!!!
URL:https://bentleyssaloon.com/event/str8t-down/2021-10-15/
CATEGORIES:Live Music
ATTACH;FMTTYPE=image/jpeg:https://bentleyssaloon.com/wp-content/uploads/2021/04/Bulletproof.jpg
END:VEVENT
BEGIN:VEVENT
DTSTART;TZID=UTC:20211016T130000
DTEND;TZID=UTC:20211016T170000
DTSTAMP:20260421T121236
CREATED:20190407T072349Z
LAST-MODIFIED:20210401T065003Z
UID:10027864-1634389200-1634403600@bentleyssaloon.com
SUMMARY:SOUTHERN BREEZE
DESCRIPTION:New England-based quintet that plays tribute to the finest southern rock bands of all time. LYNYRD SKYNYRD. Southern Breeze delivers it with all of the passion and energy of the originals.
URL:https://bentleyssaloon.com/event/southern-breeze/2021-10-16/
LOCATION:Bentley’s Saloon\, 1601 Portland Road\, Arundel\, ME\, 04046
CATEGORIES:Live Music,Southern Rock
ATTACH;FMTTYPE=image/jpeg:https://bentleyssaloon.com/wp-content/uploads/2019/04/SOUTHERN-BREEZE.jpg
END:VEVENT
BEGIN:VEVENT
DTSTART;TZID=UTC:20211016T190000
DTEND;TZID=UTC:20211016T230000
DTSTAMP:20260421T121236
CREATED:20200116T103828Z
LAST-MODIFIED:20220312T095244Z
UID:10028690-1634410800-1634425200@bentleyssaloon.com
SUMMARY:Rage
DESCRIPTION:Bad boys from Boston are back with former members of Aerosmith’s Joe Perry Project and Boston Band Extreme.
URL:https://bentleyssaloon.com/event/rage-6-2021-09-25/2021-10-16/
CATEGORIES:Live Music
ATTACH;FMTTYPE=image/jpeg:https://bentleyssaloon.com/wp-content/uploads/2021/12/rage-halloween-party-2021.jpg
END:VEVENT
END:VCALENDAR