BEGIN:VCALENDAR
VERSION:2.0
PRODID:-//Bentley&#039;s Saloon - ECPv6.15.20//NONSGML v1.0//EN
CALSCALE:GREGORIAN
METHOD:PUBLISH
X-ORIGINAL-URL:https://bentleyssaloon.com
X-WR-CALDESC:Events for Bentley&#039;s Saloon
REFRESH-INTERVAL;VALUE=DURATION:PT1H
X-Robots-Tag:noindex
X-PUBLISHED-TTL:PT1H
BEGIN:VTIMEZONE
TZID:UTC
BEGIN:STANDARD
TZOFFSETFROM:+0000
TZOFFSETTO:+0000
TZNAME:UTC
DTSTART:20200101T000000
END:STANDARD
END:VTIMEZONE
BEGIN:VEVENT
DTSTART;TZID=UTC:20211205T130000
DTEND;TZID=UTC:20211205T200000
DTSTAMP:20260420T005252
CREATED:20210917T035925Z
LAST-MODIFIED:20210929T010940Z
UID:10028331-1638709200-1638734400@bentleyssaloon.com
SUMMARY:NFL & NASCAR Sundays
DESCRIPTION:Join us at the back bar on Sunday afternoons to watch NFL & NASCAR racing on our Big Screen and tvs.
URL:https://bentleyssaloon.com/event/nfl-on-big-screen/2021-12-05/
CATEGORIES:Variety
ATTACH;FMTTYPE=image/jpeg:https://bentleyssaloon.com/wp-content/uploads/2021/09/2021-Football-Sundays_v2-scaled-scaled.jpg
END:VEVENT
BEGIN:VEVENT
DTSTART;TZID=UTC:20211210T190000
DTEND;TZID=UTC:20211210T220000
DTSTAMP:20260420T005252
CREATED:20211024T080356Z
LAST-MODIFIED:20211024T080356Z
UID:10028791-1639162800-1639173600@bentleyssaloon.com
SUMMARY:Broken Theory
DESCRIPTION:Broken Theory is a 90s alternative\, classic rock\, modern rock band
URL:https://bentleyssaloon.com/event/broken-theory/
CATEGORIES:Live Music
ATTACH;FMTTYPE=image/jpeg:https://bentleyssaloon.com/wp-content/uploads/2021/10/broken-theory.jpg
END:VEVENT
BEGIN:VEVENT
DTSTART;TZID=UTC:20211211T190000
DTEND;TZID=UTC:20211211T220000
DTSTAMP:20260420T005252
CREATED:20210401T064703Z
LAST-MODIFIED:20220312T080341Z
UID:10028682-1639249200-1639260000@bentleyssaloon.com
SUMMARY:Roc Kin On
DESCRIPTION:Talented group of five who play a great range of music – from classic rock to party rock to soft rock to country\, grunge and more.
URL:https://bentleyssaloon.com/event/rock-in-on/2021-12-11/
CATEGORIES:Live Music
ATTACH;FMTTYPE=image/jpeg:https://bentleyssaloon.com/wp-content/uploads/2021/04/Rock-in-on.jpg
END:VEVENT
END:VCALENDAR