BEGIN:VCALENDAR
VERSION:2.0
PRODID:-//Bentley&#039;s Saloon - ECPv6.15.20//NONSGML v1.0//EN
CALSCALE:GREGORIAN
METHOD:PUBLISH
X-WR-CALNAME:Bentley&#039;s Saloon
X-ORIGINAL-URL:https://bentleyssaloon.com
X-WR-CALDESC:Events for Bentley&#039;s Saloon
REFRESH-INTERVAL;VALUE=DURATION:PT1H
X-Robots-Tag:noindex
X-PUBLISHED-TTL:PT1H
BEGIN:VTIMEZONE
TZID:UTC
BEGIN:STANDARD
TZOFFSETFROM:+0000
TZOFFSETTO:+0000
TZNAME:UTC
DTSTART:20200101T000000
END:STANDARD
END:VTIMEZONE
BEGIN:VEVENT
DTSTART;TZID=UTC:20210502T080000
DTEND;TZID=UTC:20210502T170000
DTSTAMP:20260423T231218
CREATED:20210123T191309Z
LAST-MODIFIED:20220128T211024Z
UID:10028207-1619942400-1619974800@bentleyssaloon.com
SUMMARY:Patriot Riders Spring Ride for the Troops
DESCRIPTION:The Patriot Riders of America Maine Chapter 1 14th Annual Spring Ride for the Troops will end at the Saloon.  Watch for more details.
URL:https://bentleyssaloon.com/event/patriot-riders-spring-ride-for-the-troops/2021-05-02/
CATEGORIES:Motorcycle Charity Benefit Run
END:VEVENT
END:VCALENDAR