BEGIN:VCALENDAR
VERSION:2.0
PRODID:-//Bentley&#039;s Saloon - ECPv6.15.20//NONSGML v1.0//EN
CALSCALE:GREGORIAN
METHOD:PUBLISH
X-WR-CALNAME:Bentley&#039;s Saloon
X-ORIGINAL-URL:https://bentleyssaloon.com
X-WR-CALDESC:Events for Bentley&#039;s Saloon
REFRESH-INTERVAL;VALUE=DURATION:PT1H
X-Robots-Tag:noindex
X-PUBLISHED-TTL:PT1H
BEGIN:VTIMEZONE
TZID:UTC
BEGIN:STANDARD
TZOFFSETFROM:+0000
TZOFFSETTO:+0000
TZNAME:UTC
DTSTART:20180101T000000
END:STANDARD
END:VTIMEZONE
BEGIN:VEVENT
DTSTART;TZID=UTC:20190707T130000
DTEND;TZID=UTC:20190707T170000
DTSTAMP:20260420T003522
CREATED:20190408T030031Z
LAST-MODIFIED:20190408T030031Z
UID:10027951-1562504400-1562518800@bentleyssaloon.com
SUMMARY:L-A HARLEY BAND
DESCRIPTION:L-A Harley Band is Maine’s premier dance/party rock band!! The stage is where the band truly comes to life. Renowned for blending Rock\, Country and Pop into a driving\, energized evening. They opened for acts such as Parmalee and Josh Turner!!
URL:https://bentleyssaloon.com/event/l-a-harley-band/
LOCATION:Bentley’s Saloon\, 1601 Portland Road\, Arundel\, ME\, 04046
CATEGORIES:Live Music,Rock N Roll
ATTACH;FMTTYPE=image/jpeg:https://bentleyssaloon.com/wp-content/uploads/2019/03/LA-HARLEY-BAND.jpg
END:VEVENT
BEGIN:VEVENT
DTSTART;TZID=UTC:20190707T170000
DTEND;TZID=UTC:20190707T200000
DTSTAMP:20260420T003522
CREATED:20190411T031357Z
LAST-MODIFIED:20190411T031357Z
UID:10028165-1562518800-1562529600@bentleyssaloon.com
SUMMARY:TOMBSTONE PD
DESCRIPTION:
URL:https://bentleyssaloon.com/event/tombstone-pd-3/2019-07-07/
LOCATION:Bentley’s Saloon\, 1601 Portland Road\, Arundel\, ME\, 04046
CATEGORIES:Live Music
ATTACH;FMTTYPE=image/jpeg:https://bentleyssaloon.com/wp-content/uploads/2019/04/2019-tombstone-pd.jpg
END:VEVENT
END:VCALENDAR