BEGIN:VCALENDAR
VERSION:2.0
PRODID:-//Bentley&#039;s Saloon - ECPv6.15.20//NONSGML v1.0//EN
CALSCALE:GREGORIAN
METHOD:PUBLISH
X-WR-CALNAME:Bentley&#039;s Saloon
X-ORIGINAL-URL:https://bentleyssaloon.com
X-WR-CALDESC:Events for Bentley&#039;s Saloon
REFRESH-INTERVAL;VALUE=DURATION:PT1H
X-Robots-Tag:noindex
X-PUBLISHED-TTL:PT1H
BEGIN:VTIMEZONE
TZID:UTC
BEGIN:STANDARD
TZOFFSETFROM:+0000
TZOFFSETTO:+0000
TZNAME:UTC
DTSTART:20180101T000000
END:STANDARD
END:VTIMEZONE
BEGIN:VEVENT
DTSTART;VALUE=DATE:20190722
DTEND;VALUE=DATE:20190723
DTSTAMP:20260425T085606
CREATED:20190411T030012Z
LAST-MODIFIED:20190414T055016Z
UID:10028094-1563753600-1563839999@bentleyssaloon.com
SUMMARY:$1 TACOS & $3 MARGARITAS EVERY MONDAY & MONTHLY TACO EATING CONTEST ON MAY 13\, JUNE 24\, JULY 22\, AUG 26\, SEPT 30!
DESCRIPTION:MONTHLY TACO EATING CONTEST! WIN $100 GIFT CARD! HOW MANY CAN YOU EAT IN ONE HOUR?  OUR RECORD HOLDER KYLE ATE 38 TACOS!!
URL:https://bentleyssaloon.com/event/1-tacos-3-margaritas/2019-07-22/
LOCATION:Bentley’s Saloon\, 1601 Portland Road\, Arundel\, ME\, 04046
CATEGORIES:Fun Event
ATTACH;FMTTYPE=image/jpeg:https://bentleyssaloon.com/wp-content/uploads/2019/03/taco-contest.jpg
END:VEVENT
BEGIN:VEVENT
DTSTART;TZID=UTC:20190724T190000
DTEND;TZID=UTC:20190724T230000
DTSTAMP:20260425T085606
CREATED:20190411T023354Z
LAST-MODIFIED:20190414T054426Z
UID:10028071-1563994800-1564009200@bentleyssaloon.com
SUMMARY:OPEN MIC NIGHT\, WING SPECIALS & SHOOT POOL FOR FREE
DESCRIPTION:
URL:https://bentleyssaloon.com/event/open-mic-night/2019-07-24/
LOCATION:Bentley’s Saloon\, 1601 Portland Road\, Arundel\, ME\, 04046
CATEGORIES:Live Music,Open Mic
ATTACH;FMTTYPE=image/jpeg:https://bentleyssaloon.com/wp-content/uploads/2019/04/OMN-SALOON-POSTER-1.jpg
END:VEVENT
END:VCALENDAR