BEGIN:VCALENDAR
VERSION:2.0
PRODID:-//Bentley&#039;s Saloon - ECPv6.15.20//NONSGML v1.0//EN
CALSCALE:GREGORIAN
METHOD:PUBLISH
X-WR-CALNAME:Bentley&#039;s Saloon
X-ORIGINAL-URL:https://bentleyssaloon.com
X-WR-CALDESC:Events for Bentley&#039;s Saloon
REFRESH-INTERVAL;VALUE=DURATION:PT1H
X-Robots-Tag:noindex
X-PUBLISHED-TTL:PT1H
BEGIN:VTIMEZONE
TZID:UTC
BEGIN:STANDARD
TZOFFSETFROM:+0000
TZOFFSETTO:+0000
TZNAME:UTC
DTSTART:20180101T000000
END:STANDARD
END:VTIMEZONE
BEGIN:VEVENT
DTSTART;TZID=UTC:20190815T210000
DTEND;TZID=UTC:20190815T213000
DTSTAMP:20260421T200553
CREATED:20190411T030555Z
LAST-MODIFIED:20190411T030555Z
UID:10028121-1565902800-1565904600@bentleyssaloon.com
SUMMARY:BENTLEY'S DEVIL W/FREE SWAG
DESCRIPTION:
URL:https://bentleyssaloon.com/event/bentleys-devil-w-free-swag/2019-08-15/
LOCATION:Bentley’s Saloon\, 1601 Portland Road\, Arundel\, ME\, 04046
CATEGORIES:Fun Event,Live Music
ATTACH;FMTTYPE=image/jpeg:https://bentleyssaloon.com/wp-content/uploads/2019/03/Angels_Devils.jpg
END:VEVENT
BEGIN:VEVENT
DTSTART;TZID=UTC:20190816T200000
DTEND;TZID=UTC:20190816T200000
DTSTAMP:20260421T200553
CREATED:20190408T050634Z
LAST-MODIFIED:20190408T050634Z
UID:10027891-1565985600-1565985600@bentleyssaloon.com
SUMMARY:ERIC GRANT BAND
DESCRIPTION:Gilford\, New Hampshire’s Eric Grant Band has taken the country music scene by storm playing in front of thousands of fans in northern New England since 2009. They have been featured as a supporting act for national headliners such as Jason Aldean\, Tim McGraw\, Blake Shelton\, Trace Adkins\, Toby Keith\, Eric Church\, Lady Antebellum\, Keith Urban\, Brantley Gilbert\, Lee Brice\, Craig Campbell\, Randy Houser\, Keith Anderson\, Lonestar\, Sugarland\, Zac Brown Band and Jo Dee Messina.
URL:https://bentleyssaloon.com/event/eric-grant-band-3/
LOCATION:Bentley’s Saloon\, 1601 Portland Road\, Arundel\, ME\, 04046
CATEGORIES:Live Music,Variety
ATTACH;FMTTYPE=image/jpeg:https://bentleyssaloon.com/wp-content/uploads/2019/04/ERIC-GRANT-BAND.jpg
END:VEVENT
BEGIN:VEVENT
DTSTART;TZID=UTC:20190816T210000
DTEND;TZID=UTC:20190816T213000
DTSTAMP:20260421T200553
CREATED:20190411T030801Z
LAST-MODIFIED:20190411T030801Z
UID:10028147-1565989200-1565991000@bentleyssaloon.com
SUMMARY:BENTLEY'S ANGEL W/FREE SWAG
DESCRIPTION:
URL:https://bentleyssaloon.com/event/bentleys-angel-w-free-swag/2019-08-16/
LOCATION:Bentley’s Saloon\, 1601 Portland Road\, Arundel\, ME\, 04046
CATEGORIES:Fun Event,Live Music
ATTACH;FMTTYPE=image/jpeg:https://bentleyssaloon.com/wp-content/uploads/2019/03/Angels_Devils.jpg
END:VEVENT
BEGIN:VEVENT
DTSTART;TZID=UTC:20190817T140000
DTEND;TZID=UTC:20190817T180000
DTSTAMP:20260421T200553
CREATED:20190408T050955Z
LAST-MODIFIED:20190408T050955Z
UID:10027895-1566050400-1566064800@bentleyssaloon.com
SUMMARY:DAVE BERRY BAND
DESCRIPTION:Steeped in history\, born on the back streets\, full of brotherly love\, hard work and dedication – Dave Berry Band 2016
URL:https://bentleyssaloon.com/event/dave-berry-band-2/
LOCATION:Bentley’s Saloon\, 1601 Portland Road\, Arundel\, ME\, 04046
CATEGORIES:Live Music,Variety
ATTACH;FMTTYPE=image/jpeg:https://bentleyssaloon.com/wp-content/uploads/2019/04/dave-berrt-band-billys-fan-club.jpg
END:VEVENT
BEGIN:VEVENT
DTSTART;TZID=UTC:20190817T200000
DTEND;TZID=UTC:20190817T200000
DTSTAMP:20260421T200553
CREATED:20190408T052045Z
LAST-MODIFIED:20220226T093039Z
UID:10027896-1566072000-1566072000@bentleyssaloon.com
SUMMARY:WILDSIDE
DESCRIPTION:The Best 80’s Hair Rock Tribute Band in New England!\nWildside rocks the house playing the very best versions of your hair metal favorites.  You’ll swear it’s 1987 when Wildside takes the stage and blasts out tunes from Bon Jovi\, Def Leppard\, Motley Crue\, Ratt\, The Scorpions\, Whitesnake and more.  So\, tease up your hair\, throw on the acid washed and get ready Rock!
URL:https://bentleyssaloon.com/event/wildside/2019-08-17/
LOCATION:Bentley’s Saloon\, 1601 Portland Road\, Arundel\, ME\, 04046
CATEGORIES:Live Music,Rock N Roll
ATTACH;FMTTYPE=image/jpeg:https://bentleyssaloon.com/wp-content/uploads/2019/04/wildside-aug-17.jpg
END:VEVENT
BEGIN:VEVENT
DTSTART;VALUE=DATE:20190818
DTEND;VALUE=DATE:20190819
DTSTAMP:20260421T200553
CREATED:20190408T052739Z
LAST-MODIFIED:20190730T195155Z
UID:10027902-1566086400-1566172799@bentleyssaloon.com
SUMMARY:15 YEAR ANNIVERSARY CELEBRATION PARTY
DESCRIPTION:JOIN BENTLEY AND OUR FAMILY OF EMPLOYEES AND FRIENDS TO CELEBRATE OUR 15-YEAR ANNIVERSARY!!  Party starts at 1 pm with Shovelhead Band\, hard drivin’ rock on stage til 5 pm and Two Kings Duo from 5 til 9 pm. Enter to win concert tickets to see Brantley Gilbert and for race tickets for Full Throttle Weekend at New Hampshire Speedway.  Enter for a chance to win a trip to Daytona Beach Bike Week and for a chance qualify to win a custom painted Harley Davidson thanks to Big Moose Harley Davidson\, Sailor Jerry’s and Bentley!  FREE TEES AND SCHWAG! \n \nREMEMBER OUR 10 YEAR ANNIVERSARY PARTY??!!!
URL:https://bentleyssaloon.com/event/15-year-anniversary-celebration-party/
LOCATION:Bentley’s Saloon\, 1601 Portland Road\, Arundel\, ME\, 04046
CATEGORIES:Fun Event,Live Music
ATTACH;FMTTYPE=image/jpeg:https://bentleyssaloon.com/wp-content/uploads/2019/04/15-Year-Anniversary-Party.jpg
END:VEVENT
BEGIN:VEVENT
DTSTART;TZID=UTC:20190818T130000
DTEND;TZID=UTC:20190818T170000
DTSTAMP:20260421T200553
CREATED:20190408T052316Z
LAST-MODIFIED:20190408T052316Z
UID:10027928-1566133200-1566147600@bentleyssaloon.com
SUMMARY:SHOVELHEAD
DESCRIPTION:SHOVELHEAD is performing for our 15-year anniversary celebration party!!  They’re Hard Drivin’ Southern & Classic Rock \n 
URL:https://bentleyssaloon.com/event/shovelhead-3/
LOCATION:Bentley’s Saloon\, 1601 Portland Road\, Arundel\, ME\, 04046
CATEGORIES:Live Music,Southern Rock
ATTACH;FMTTYPE=image/jpeg:https://bentleyssaloon.com/wp-content/uploads/2019/04/shovelhead_edited-1-1.jpg
END:VEVENT
BEGIN:VEVENT
DTSTART;TZID=UTC:20190818T170000
DTEND;TZID=UTC:20190818T210000
DTSTAMP:20260421T200553
CREATED:20190408T052604Z
LAST-MODIFIED:20190408T052604Z
UID:10027900-1566147600-1566162000@bentleyssaloon.com
SUMMARY:TWO KINGS DUO
DESCRIPTION:It’s our 15-year anniversary celebration party day!!  Members from the Sofa Kings – Classic rock/ blues band! Featuring some of the finest musicians\, all who have been playing 40 plus years. Playing the hottest dance music at the local clubs\, killer originals\, and the best blues.
URL:https://bentleyssaloon.com/event/two-kings-duo/
LOCATION:Bentley’s Saloon\, 1601 Portland Road\, Arundel\, ME\, 04046
CATEGORIES:Live Music,Variety
ATTACH;FMTTYPE=image/jpeg:https://bentleyssaloon.com/wp-content/uploads/2019/04/sofa-kings.jpg
END:VEVENT
BEGIN:VEVENT
DTSTART;VALUE=DATE:20190819
DTEND;VALUE=DATE:20190820
DTSTAMP:20260421T200553
CREATED:20190411T030012Z
LAST-MODIFIED:20190414T055016Z
UID:10028098-1566172800-1566259199@bentleyssaloon.com
SUMMARY:$1 TACOS & $3 MARGARITAS EVERY MONDAY & MONTHLY TACO EATING CONTEST ON MAY 13\, JUNE 24\, JULY 22\, AUG 26\, SEPT 30!
DESCRIPTION:MONTHLY TACO EATING CONTEST! WIN $100 GIFT CARD! HOW MANY CAN YOU EAT IN ONE HOUR?  OUR RECORD HOLDER KYLE ATE 38 TACOS!!
URL:https://bentleyssaloon.com/event/1-tacos-3-margaritas/2019-08-19/
LOCATION:Bentley’s Saloon\, 1601 Portland Road\, Arundel\, ME\, 04046
CATEGORIES:Fun Event
ATTACH;FMTTYPE=image/jpeg:https://bentleyssaloon.com/wp-content/uploads/2019/03/taco-contest.jpg
END:VEVENT
BEGIN:VEVENT
DTSTART;TZID=UTC:20190819T173000
DTEND;TZID=UTC:20190819T193000
DTSTAMP:20260421T200553
CREATED:20190414T065633Z
LAST-MODIFIED:20190414T065633Z
UID:10028184-1566235800-1566243000@bentleyssaloon.com
SUMMARY:CORNHOLE TOURNEYS SPONSORED BY LONE PINE BREWING CO. (3RD MONDAY OF EVERY MONTH EXCEPT SUNDAY\, OCT 13)
DESCRIPTION:
URL:https://bentleyssaloon.com/event/cornhole-tourneys-sponsored-by-lone-pine-brewing-co-3rd-monday-of-every-month-except-sunday-oct-13/2019-08-19/
LOCATION:Bentley’s Saloon\, 1601 Portland Road\, Arundel\, ME\, 04046
CATEGORIES:Fun Event
ATTACH;FMTTYPE=image/jpeg:https://bentleyssaloon.com/wp-content/uploads/2019/03/2019-cornhole.jpg
END:VEVENT
END:VCALENDAR