BEGIN:VCALENDAR
VERSION:2.0
PRODID:-//Bentley&#039;s Saloon - ECPv6.15.20//NONSGML v1.0//EN
CALSCALE:GREGORIAN
METHOD:PUBLISH
X-WR-CALNAME:Bentley&#039;s Saloon
X-ORIGINAL-URL:https://bentleyssaloon.com
X-WR-CALDESC:Events for Bentley&#039;s Saloon
REFRESH-INTERVAL;VALUE=DURATION:PT1H
X-Robots-Tag:noindex
X-PUBLISHED-TTL:PT1H
BEGIN:VTIMEZONE
TZID:UTC
BEGIN:STANDARD
TZOFFSETFROM:+0000
TZOFFSETTO:+0000
TZNAME:UTC
DTSTART:20180101T000000
END:STANDARD
END:VTIMEZONE
BEGIN:VEVENT
DTSTART;TZID=UTC:20190921T200000
DTEND;TZID=UTC:20190921T200000
DTSTAMP:20260424T044647
CREATED:20190408T203954Z
LAST-MODIFIED:20190410T000126Z
UID:10028049-1569096000-1569096000@bentleyssaloon.com
SUMMARY:WALKIN' THE LINE
DESCRIPTION:Boston’s Premier Top 40 Country Dance Band.
URL:https://bentleyssaloon.com/event/walkin-the-line-2/
LOCATION:Bentley’s Saloon\, 1601 Portland Road\, Arundel\, ME\, 04046
CATEGORIES:Country,Live Music
ATTACH;FMTTYPE=image/jpeg:https://bentleyssaloon.com/wp-content/uploads/2019/04/WALKIN-THE-LINE-WITH-BENTLEY.jpg
END:VEVENT
BEGIN:VEVENT
DTSTART;TZID=UTC:20190922T110000
DTEND;TZID=UTC:20190922T150000
DTSTAMP:20260424T044647
CREATED:20190409T210233Z
LAST-MODIFIED:20190730T234832Z
UID:10027931-1569150000-1569164400@bentleyssaloon.com
SUMMARY:SEASON END CAR SHOW (rain date Sept 29)
DESCRIPTION:BRINGING A CAR TO DISPLAY AT OUR SEASON END CAR SHOW\, COME EARLY AS IT’S USUALLY A FANTASTIC TURNOUT WITH AMAZING CARS.  FREE TO ENTER\, SPECTATOR CHOICE AWARDS\, DISCOUNTED MEALS FOR CAR SHOW OWNERS & THEIR GUESTS\, DOOR PRIZES\, CASH RAFFLES & WE DRAW THE WINNING TICKET FOR THE UPSCALE TOOLBOX THANKS TO OUR LOCAL SANEL NAPA AUTO PARTS CENTER MANAGER JEFF FROM THE BIDDEFORD STORE!!  (rain date Sept 29) All-you-can-eat breakfast buffet with made to order omelets and bottomless coffee served 8 am til 11:30 am.  Memphis Lightning performs 1 til 5 pm!  This typically is our biggest show of the season with hundreds of cars on display! \n  \n 
URL:https://bentleyssaloon.com/event/season-end-car-show/
LOCATION:Bentley’s Saloon\, 1601 Portland Road\, Arundel\, ME\, 04046
CATEGORIES:Car Show
ATTACH;FMTTYPE=image/jpeg:https://bentleyssaloon.com/wp-content/uploads/2019/04/2019-Season-End-Car-Show.jpg
END:VEVENT
BEGIN:VEVENT
DTSTART;TZID=UTC:20190922T130000
DTEND;TZID=UTC:20190922T170000
DTSTAMP:20260424T044647
CREATED:20190408T204207Z
LAST-MODIFIED:20190408T204207Z
UID:10028055-1569157200-1569171600@bentleyssaloon.com
SUMMARY:MEMPHIS LIGHTNING
DESCRIPTION:Memphis Lightning are a group of rocking Blues men\, taking a quality sound everywhere they go. Rocking up the sky’s with classic and original hits.  It’s also our season end car show of the season from 11 am til 3 pm.  This band is a favorite with the car show enthusiasts & the saloon’s!!
URL:https://bentleyssaloon.com/event/memphis-lightning-2/
LOCATION:Bentley’s Saloon\, 1601 Portland Road\, Arundel\, ME\, 04046
CATEGORIES:Live Music,Variety
ATTACH;FMTTYPE=image/jpeg:https://bentleyssaloon.com/wp-content/uploads/2019/04/Memphis-Lightning.jpg
END:VEVENT
BEGIN:VEVENT
DTSTART;TZID=UTC:20190922T170000
DTEND;TZID=UTC:20190922T200000
DTSTAMP:20260424T044647
CREATED:20190411T031357Z
LAST-MODIFIED:20190411T031357Z
UID:10028174-1569171600-1569182400@bentleyssaloon.com
SUMMARY:TOMBSTONE PD
DESCRIPTION:
URL:https://bentleyssaloon.com/event/tombstone-pd-3/2019-09-22/
LOCATION:Bentley’s Saloon\, 1601 Portland Road\, Arundel\, ME\, 04046
CATEGORIES:Live Music
ATTACH;FMTTYPE=image/jpeg:https://bentleyssaloon.com/wp-content/uploads/2019/04/2019-tombstone-pd.jpg
END:VEVENT
BEGIN:VEVENT
DTSTART;VALUE=DATE:20190923
DTEND;VALUE=DATE:20190924
DTSTAMP:20260424T044647
CREATED:20190411T030012Z
LAST-MODIFIED:20190414T055016Z
UID:10028102-1569196800-1569283199@bentleyssaloon.com
SUMMARY:$1 TACOS & $3 MARGARITAS EVERY MONDAY & MONTHLY TACO EATING CONTEST ON MAY 13\, JUNE 24\, JULY 22\, AUG 26\, SEPT 30!
DESCRIPTION:MONTHLY TACO EATING CONTEST! WIN $100 GIFT CARD! HOW MANY CAN YOU EAT IN ONE HOUR?  OUR RECORD HOLDER KYLE ATE 38 TACOS!!
URL:https://bentleyssaloon.com/event/1-tacos-3-margaritas/2019-09-23/
LOCATION:Bentley’s Saloon\, 1601 Portland Road\, Arundel\, ME\, 04046
CATEGORIES:Fun Event
ATTACH;FMTTYPE=image/jpeg:https://bentleyssaloon.com/wp-content/uploads/2019/03/taco-contest.jpg
END:VEVENT
BEGIN:VEVENT
DTSTART;TZID=UTC:20190925T190000
DTEND;TZID=UTC:20190925T230000
DTSTAMP:20260424T044647
CREATED:20190411T023354Z
LAST-MODIFIED:20190414T054426Z
UID:10028080-1569438000-1569452400@bentleyssaloon.com
SUMMARY:OPEN MIC NIGHT\, WING SPECIALS & SHOOT POOL FOR FREE
DESCRIPTION:
URL:https://bentleyssaloon.com/event/open-mic-night/2019-09-25/
LOCATION:Bentley’s Saloon\, 1601 Portland Road\, Arundel\, ME\, 04046
CATEGORIES:Live Music,Open Mic
ATTACH;FMTTYPE=image/jpeg:https://bentleyssaloon.com/wp-content/uploads/2019/04/OMN-SALOON-POSTER-1.jpg
END:VEVENT
END:VCALENDAR