BEGIN:VCALENDAR
VERSION:2.0
PRODID:-//Bentley&#039;s Saloon - ECPv6.15.20//NONSGML v1.0//EN
CALSCALE:GREGORIAN
METHOD:PUBLISH
X-WR-CALNAME:Bentley&#039;s Saloon
X-ORIGINAL-URL:https://bentleyssaloon.com
X-WR-CALDESC:Events for Bentley&#039;s Saloon
REFRESH-INTERVAL;VALUE=DURATION:PT1H
X-Robots-Tag:noindex
X-PUBLISHED-TTL:PT1H
BEGIN:VTIMEZONE
TZID:UTC
BEGIN:STANDARD
TZOFFSETFROM:+0000
TZOFFSETTO:+0000
TZNAME:UTC
DTSTART:20190101T000000
END:STANDARD
END:VTIMEZONE
BEGIN:VEVENT
DTSTART;TZID=UTC:20200524T200000
DTEND;TZID=UTC:20200524T200000
DTSTAMP:20260419T213441
CREATED:20200116T111407Z
LAST-MODIFIED:20200116T111407Z
UID:10028318-1590350400-1590350400@bentleyssaloon.com
SUMMARY:The Chills
DESCRIPTION:New England’s premier rock/dance trio.
URL:https://bentleyssaloon.com/event/the-chills-4/2020-05-24/
CATEGORIES:Live Music
ATTACH;FMTTYPE=image/jpeg:https://bentleyssaloon.com/wp-content/uploads/2019/04/THE-CHILLS.jpg
END:VEVENT
BEGIN:VEVENT
DTSTART;TZID=UTC:20200525T180000
DTEND;TZID=UTC:20200525T220000
DTSTAMP:20260419T213441
CREATED:20200116T113027Z
LAST-MODIFIED:20200116T113027Z
UID:10028337-1590429600-1590444000@bentleyssaloon.com
SUMMARY:Rob Randlett
DESCRIPTION:Acoustic performance
URL:https://bentleyssaloon.com/event/rob-randlett/2020-05-25/
CATEGORIES:Live Music
ATTACH;FMTTYPE=image/jpeg:https://bentleyssaloon.com/wp-content/uploads/2020/01/rob-randlett.jpg
END:VEVENT
BEGIN:VEVENT
DTSTART;TZID=UTC:20200528T170000
DTEND;TZID=UTC:20200528T200000
DTSTAMP:20260419T213441
CREATED:20200131T105738Z
LAST-MODIFIED:20200807T162353Z
UID:10028479-1590685200-1590696000@bentleyssaloon.com
SUMMARY:Jose Duddy Country Singer / Entertainer
DESCRIPTION:Country singer and entertainer Jose Duddy is a show that attracts all ages\, and Jose’s silky voice and charisma make you feel you’re at a show in Las Vegas not Arundel!  Jose will be performing on our new outside stage in courtyard until the Covid19 restrictions permit performances on inside stage.
URL:https://bentleyssaloon.com/event/jose-duddy-country-singer-2-2020-07-16/2020-05-28/
CATEGORIES:Country,Live Music
ATTACH;FMTTYPE=image/jpeg:https://bentleyssaloon.com/wp-content/uploads/2020/01/thumbnail_2020-Jose-Duddy_rev2.jpg
END:VEVENT
BEGIN:VEVENT
DTSTART;TZID=UTC:20200530T080000
DTEND;TZID=UTC:20200530T170000
DTSTAMP:20260419T213441
CREATED:20200131T102650Z
LAST-MODIFIED:20200131T102650Z
UID:10028419-1590825600-1590858000@bentleyssaloon.com
SUMMARY:Bentley's Balls Day - Win Cash!!
DESCRIPTION:This will be the 7th year that we give away $1000 the last Saturday of every month for playing with Bentley’s Balls!!  All day free to enter\, and 6 people are guaranteed to win $100 and one person is going to win $500.  All you have to do is enter your name\, and it’s free to play Bentley’s Balls Day.  At 7 pm\, we draw the winner’s names! Don’t be late\, because we’ll poof you out!!
URL:https://bentleyssaloon.com/event/bentleys-balls-day-win-cash/2020-05-30/
CATEGORIES:Fun Event
ATTACH;FMTTYPE=image/jpeg:https://bentleyssaloon.com/wp-content/uploads/2020/01/2020-Bentleys_Balls.jpg
END:VEVENT
BEGIN:VEVENT
DTSTART;TZID=UTC:20200531T170000
DTEND;TZID=UTC:20200531T200000
DTSTAMP:20260419T213441
CREATED:20200215T232202Z
LAST-MODIFIED:20220225T070650Z
UID:10028445-1590944400-1590955200@bentleyssaloon.com
SUMMARY:Barry Arvin Young
DESCRIPTION:Acoustic performer
URL:https://bentleyssaloon.com/event/barry-young/2020-05-31/
CATEGORIES:Live Music
ATTACH;FMTTYPE=image/jpeg:https://bentleyssaloon.com/wp-content/uploads/2019/04/BARRY-ARVIN-YOUNG-1.jpg
END:VEVENT
BEGIN:VEVENT
DTSTART;TZID=UTC:20200601T180000
DTEND;TZID=UTC:20200601T190000
DTSTAMP:20260419T213441
CREATED:20200128T225240Z
LAST-MODIFIED:20200624T074443Z
UID:10028407-1591034400-1591038000@bentleyssaloon.com
SUMMARY:Dance Lessons with the Bentley's Angels Dancers
DESCRIPTION:Join the Bentley’s Angels dancers for fun learning country line dancing the first and third Mondays beginning in May.  Only $5 per lesson and we offer $3 margaritas on Mondays!
URL:https://bentleyssaloon.com/event/dance-lessons-with-the-bentleys-angels-dancers-2020-05-18/2020-06-01/
CATEGORIES:Fun Event
ATTACH;FMTTYPE=image/jpeg:https://bentleyssaloon.com/wp-content/uploads/2020/01/2020-DanceLessons.jpg
END:VEVENT
BEGIN:VEVENT
DTSTART;TZID=UTC:20200605T080000
DTEND;TZID=UTC:20200605T170000
DTSTAMP:20260419T213441
CREATED:20200131T103527Z
LAST-MODIFIED:20200131T103527Z
UID:10028425-1591344000-1591376400@bentleyssaloon.com
SUMMARY:Blue Moon Full Moon
DESCRIPTION:Every full moon\, FREE Blue Moon swag for Blue Moon drinkers and a chance to enter to win a Patagonia Back Pack.  Winner’s name drawn Oct 1.
URL:https://bentleyssaloon.com/event/blue-moon-full-moon-7/2020-06-05/
ATTACH;FMTTYPE=image/jpeg:https://bentleyssaloon.com/wp-content/uploads/2020/01/2020-BlueMoon_FullMoon-scaled.jpg
END:VEVENT
BEGIN:VEVENT
DTSTART;TZID=UTC:20200607T170000
DTEND;TZID=UTC:20200607T200000
DTSTAMP:20260419T213441
CREATED:20200116T094307Z
LAST-MODIFIED:20200116T094307Z
UID:10027958-1591549200-1591560000@bentleyssaloon.com
SUMMARY:Acoustic Jon Giancola
DESCRIPTION:Acoustic performance with Jon Giancola from the Sofa Kings Band.
URL:https://bentleyssaloon.com/event/acoustic-jon-giancola/2020-06-07/
CATEGORIES:Live Music
END:VEVENT
BEGIN:VEVENT
DTSTART;TZID=UTC:20200611T170000
DTEND;TZID=UTC:20200611T230000
DTSTAMP:20260419T213441
CREATED:20200216T000514Z
LAST-MODIFIED:20200216T001504Z
UID:10028458-1591894800-1591916400@bentleyssaloon.com
SUMMARY:ROCKIN' BIKE NIGHT
DESCRIPTION:Join the Big Moose Harley Davidson crew\, OB and Karaoke Annie for bike games\, singing and dancing!!  Big Moose gives away three $75 gift cards at Rockin’ Bike Night! Swing by between 5 and 7 pm and test out the Jump Start Bike Simulator!
URL:https://bentleyssaloon.com/event/rockin-bike-night/2020-06-11/
CATEGORIES:Fun Event,Live Music
ATTACH;FMTTYPE=image/jpeg:https://bentleyssaloon.com/wp-content/uploads/2020/02/2020-Big-Moose-Bar-Games-scaled.jpg
END:VEVENT
END:VCALENDAR