BEGIN:VCALENDAR
VERSION:2.0
PRODID:-//Bentley&#039;s Saloon - ECPv6.15.20//NONSGML v1.0//EN
CALSCALE:GREGORIAN
METHOD:PUBLISH
X-WR-CALNAME:Bentley&#039;s Saloon
X-ORIGINAL-URL:https://bentleyssaloon.com
X-WR-CALDESC:Events for Bentley&#039;s Saloon
REFRESH-INTERVAL;VALUE=DURATION:PT1H
X-Robots-Tag:noindex
X-PUBLISHED-TTL:PT1H
BEGIN:VTIMEZONE
TZID:UTC
BEGIN:STANDARD
TZOFFSETFROM:+0000
TZOFFSETTO:+0000
TZNAME:UTC
DTSTART:20190101T000000
END:STANDARD
END:VTIMEZONE
BEGIN:VEVENT
DTSTART;TZID=UTC:20200615T130000
DTEND;TZID=UTC:20200615T170000
DTSTAMP:20260421T032413
CREATED:20200215T232202Z
LAST-MODIFIED:20220225T070650Z
UID:10028446-1592226000-1592240400@bentleyssaloon.com
SUMMARY:Barry Arvin Young
DESCRIPTION:Acoustic performer
URL:https://bentleyssaloon.com/event/barry-young/2020-06-15/
CATEGORIES:Live Music
ATTACH;FMTTYPE=image/jpeg:https://bentleyssaloon.com/wp-content/uploads/2019/04/BARRY-ARVIN-YOUNG-1.jpg
END:VEVENT
BEGIN:VEVENT
DTSTART;TZID=UTC:20200615T180000
DTEND;TZID=UTC:20200615T220000
DTSTAMP:20260421T032413
CREATED:20200218T024359Z
LAST-MODIFIED:20200723T212332Z
UID:10028463-1592244000-1592258400@bentleyssaloon.com
SUMMARY:Two Kings Duo
DESCRIPTION:John and Jay from the classic rock and blues band the Sofa Kings make up the Two Kings Duo.
URL:https://bentleyssaloon.com/event/two-kings-duo-3/2020-06-15/
CATEGORIES:Live Music
ATTACH;FMTTYPE=image/jpeg:https://bentleyssaloon.com/wp-content/uploads/2019/06/sofa-kings.jpg
END:VEVENT
BEGIN:VEVENT
DTSTART;TZID=UTC:20200616T130000
DTEND;TZID=UTC:20200616T170000
DTSTAMP:20260421T032413
CREATED:20200218T025151Z
LAST-MODIFIED:20200218T025151Z
UID:10028467-1592312400-1592326800@bentleyssaloon.com
SUMMARY:Twisted Tea Back Label Party
DESCRIPTION:Twisted Tea drinkers this is your chance to get on the back label of a Twisted Tea bottle.  We did it before\, we can do it again!!
URL:https://bentleyssaloon.com/event/twisted-tea-back-label-party-2/
CATEGORIES:Fun Event
ATTACH;FMTTYPE=image/jpeg:https://bentleyssaloon.com/wp-content/uploads/2020/02/2020-Back-Label-Party.jpg
END:VEVENT
BEGIN:VEVENT
DTSTART;TZID=UTC:20200617T130000
DTEND;TZID=UTC:20200617T170000
DTSTAMP:20260421T032413
CREATED:20200128T003007Z
LAST-MODIFIED:20200128T003007Z
UID:10028002-1592398800-1592413200@bentleyssaloon.com
SUMMARY:Aquanett
DESCRIPTION:80’s tribute band to the decade of hair band rock /Heavy Metal that performs all over New England.
URL:https://bentleyssaloon.com/event/aquanett/
CATEGORIES:Live Music
END:VEVENT
END:VCALENDAR