BEGIN:VCALENDAR
VERSION:2.0
PRODID:-//Bentley&#039;s Saloon - ECPv6.15.20//NONSGML v1.0//EN
CALSCALE:GREGORIAN
METHOD:PUBLISH
X-WR-CALNAME:Bentley&#039;s Saloon
X-ORIGINAL-URL:https://bentleyssaloon.com
X-WR-CALDESC:Events for Bentley&#039;s Saloon
REFRESH-INTERVAL;VALUE=DURATION:PT1H
X-Robots-Tag:noindex
X-PUBLISHED-TTL:PT1H
BEGIN:VTIMEZONE
TZID:UTC
BEGIN:STANDARD
TZOFFSETFROM:+0000
TZOFFSETTO:+0000
TZNAME:UTC
DTSTART:20190101T000000
END:STANDARD
END:VTIMEZONE
BEGIN:VEVENT
DTSTART;TZID=UTC:20200731T150000
DTEND;TZID=UTC:20200731T190000
DTSTAMP:20260420T124018
CREATED:20200116T094817Z
LAST-MODIFIED:20220222T071113Z
UID:10027967-1596207600-1596222000@bentleyssaloon.com
SUMMARY:Two Tones (members from CoverTones)
DESCRIPTION:
URL:https://bentleyssaloon.com/event/the-cover-tones-2020-07-31/2020-07-31/
CATEGORIES:Live Music
ATTACH;FMTTYPE=image/jpeg:https://bentleyssaloon.com/wp-content/uploads/2019/03/Covertones.jpg
END:VEVENT
BEGIN:VEVENT
DTSTART;TZID=UTC:20200731T160000
DTEND;TZID=UTC:20200731T190000
DTSTAMP:20260420T124018
CREATED:20200227T201600Z
LAST-MODIFIED:20200724T012903Z
UID:10028048-1596211200-1596222000@bentleyssaloon.com
SUMMARY:NASCAR GO FAS RACING!!!
DESCRIPTION:Come check out the NASCAR Go Fas Racing cars!!
URL:https://bentleyssaloon.com/event/nascar-meet-greet-day/
CATEGORIES:Fun Event
ATTACH;FMTTYPE=image/jpeg:https://bentleyssaloon.com/wp-content/uploads/2020/07/go-fas-racing.jpg
END:VEVENT
BEGIN:VEVENT
DTSTART;TZID=UTC:20200801T140000
DTEND;TZID=UTC:20200801T170000
DTSTAMP:20260420T124018
CREATED:20200116T110104Z
LAST-MODIFIED:20200807T155603Z
UID:10028489-1596290400-1596301200@bentleyssaloon.com
SUMMARY:Sarah Libby Live Duo
DESCRIPTION:
URL:https://bentleyssaloon.com/event/nouveau-redneck-3-2020-07-04-2020-08-01/2020-08-01/
CATEGORIES:Live Music
ATTACH;FMTTYPE=image/png:https://bentleyssaloon.com/wp-content/uploads/2019/08/sarah-libby-live.png
END:VEVENT
BEGIN:VEVENT
DTSTART;TZID=UTC:20200801T180000
DTEND;TZID=UTC:20200801T210000
DTSTAMP:20260420T124018
CREATED:20200116T102107Z
LAST-MODIFIED:20200910T041558Z
UID:10027987-1596304800-1596315600@bentleyssaloon.com
SUMMARY:Brazen Cane
DESCRIPTION:This 3-piece kick-ass band was the first to perform on our new outside stage in the courtyard!
URL:https://bentleyssaloon.com/event/sarah-libby-live-duo-2020-07-12/2020-08-01/
CATEGORIES:Live Music
ATTACH;FMTTYPE=image/jpeg:https://bentleyssaloon.com/wp-content/uploads/2020/01/brazem-came-2-scaled.jpg
END:VEVENT
BEGIN:VEVENT
DTSTART;TZID=UTC:20200801T200000
DTEND;TZID=UTC:20200801T200000
DTSTAMP:20260420T124018
CREATED:20200116T110518Z
LAST-MODIFIED:20200116T110518Z
UID:10028309-1596312000-1596312000@bentleyssaloon.com
SUMMARY:The Voice
DESCRIPTION:Seven diverse musicians who have come together for their love of music & the excitement of live performance. The Voice prides itself on it’s intricate vocal harmonies and passionate desire to recreate the original song perfectly. Formed in 1992\, The Voice performs a wide variety of classic rock from the 60′s to today.
URL:https://bentleyssaloon.com/event/the-voice-4/2020-08-01/
ATTACH;FMTTYPE=image/jpeg:https://bentleyssaloon.com/wp-content/uploads/2019/04/The-Voice.jpg
END:VEVENT
BEGIN:VEVENT
DTSTART;TZID=UTC:20200802T080000
DTEND;TZID=UTC:20200802T170000
DTSTAMP:20260420T124018
CREATED:20200501T182637Z
LAST-MODIFIED:20200723T192451Z
UID:10028473-1596355200-1596387600@bentleyssaloon.com
SUMMARY:PATRIOT RIDERS 13TH ANNUAL SPRING RIDE FOR THE TROOPS - cancelled
DESCRIPTION:Due to Covid19 restrictions\, the Spring Ride for the Troops is not coming to the Saloon this year.
URL:https://bentleyssaloon.com/event/patriot-riders-13th-annual-spring-ride-for-the-troops/
CATEGORIES:Motorcycle Charity Benefit Run
ATTACH;FMTTYPE=image/jpeg:https://bentleyssaloon.com/wp-content/uploads/2020/02/spring-ride-for-troops.jpg
END:VEVENT
BEGIN:VEVENT
DTSTART;TZID=UTC:20200802T140000
DTEND;TZID=UTC:20200802T180000
DTSTAMP:20260420T124018
CREATED:20200116T102107Z
LAST-MODIFIED:20200910T041558Z
UID:10027988-1596376800-1596391200@bentleyssaloon.com
SUMMARY:Brazen Cane
DESCRIPTION:This 3-piece kick-ass band was the first to perform on our new outside stage in the courtyard!
URL:https://bentleyssaloon.com/event/sarah-libby-live-duo-2020-07-12/2020-08-02/
CATEGORIES:Live Music
ATTACH;FMTTYPE=image/jpeg:https://bentleyssaloon.com/wp-content/uploads/2020/01/brazem-came-2-scaled.jpg
END:VEVENT
BEGIN:VEVENT
DTSTART;TZID=UTC:20200802T170000
DTEND;TZID=UTC:20200802T200000
DTSTAMP:20260420T124018
CREATED:20200116T094307Z
LAST-MODIFIED:20200116T094307Z
UID:10027959-1596387600-1596398400@bentleyssaloon.com
SUMMARY:Acoustic Jon Giancola
DESCRIPTION:Acoustic performance with Jon Giancola from the Sofa Kings Band.
URL:https://bentleyssaloon.com/event/acoustic-jon-giancola/2020-08-02/
CATEGORIES:Live Music
END:VEVENT
END:VCALENDAR