BEGIN:VCALENDAR
VERSION:2.0
PRODID:-//Bentley&#039;s Saloon - ECPv6.15.20//NONSGML v1.0//EN
CALSCALE:GREGORIAN
METHOD:PUBLISH
X-WR-CALNAME:Bentley&#039;s Saloon
X-ORIGINAL-URL:https://bentleyssaloon.com
X-WR-CALDESC:Events for Bentley&#039;s Saloon
REFRESH-INTERVAL;VALUE=DURATION:PT1H
X-Robots-Tag:noindex
X-PUBLISHED-TTL:PT1H
BEGIN:VTIMEZONE
TZID:UTC
BEGIN:STANDARD
TZOFFSETFROM:+0000
TZOFFSETTO:+0000
TZNAME:UTC
DTSTART:20190101T000000
END:STANDARD
END:VTIMEZONE
BEGIN:VEVENT
DTSTART;TZID=UTC:20200807T170000
DTEND;TZID=UTC:20200807T210000
DTSTAMP:20260420T072143
CREATED:20200218T024359Z
LAST-MODIFIED:20200723T212332Z
UID:10028465-1596819600-1596834000@bentleyssaloon.com
SUMMARY:Two Kings Duo
DESCRIPTION:John and Jay from the classic rock and blues band the Sofa Kings make up the Two Kings Duo.
URL:https://bentleyssaloon.com/event/two-kings-duo-3/2020-08-07/
CATEGORIES:Live Music
ATTACH;FMTTYPE=image/jpeg:https://bentleyssaloon.com/wp-content/uploads/2019/06/sofa-kings.jpg
END:VEVENT
BEGIN:VEVENT
DTSTART;TZID=UTC:20200807T200000
DTEND;TZID=UTC:20200807T200000
DTSTAMP:20260420T072143
CREATED:20191223T081754Z
LAST-MODIFIED:20191223T084739Z
UID:10028232-1596830400-1596830400@bentleyssaloon.com
SUMMARY:Eric Grant Band
DESCRIPTION:The Gilford\, New Hampshire based Eric Grant Band has taken the music scene by storm playing in front of thousands of fans in northern New England since their inception in 2009. They have been featured as a supporting act for national headliners such as Jason Aldean\, Tim McGraw\, Blake Shelton\, Trace Adkins\, Toby Keith\, Eric Church\, Lady Antebellum\, Keith Urban\, Brantley Gilbert\, Lee Brice\, Craig Campbell\, Randy Houser\, Keith Anderson\, Lonestar\, Sugarland\, Zac Brown Band and Jo Dee Messina.
URL:https://bentleyssaloon.com/event/eric-grant-band-5/2020-08-07/
CATEGORIES:Live Music,Variety
ATTACH;FMTTYPE=image/jpeg:https://bentleyssaloon.com/wp-content/uploads/2019/04/ERIC-GRANT-BAND.jpg
END:VEVENT
BEGIN:VEVENT
DTSTART;TZID=UTC:20200808T140000
DTEND;TZID=UTC:20200808T170000
DTSTAMP:20260420T072143
CREATED:20200128T220556Z
LAST-MODIFIED:20200723T174250Z
UID:10028401-1596895200-1596906000@bentleyssaloon.com
SUMMARY:Kids @ Play
DESCRIPTION:
URL:https://bentleyssaloon.com/event/easy-money-band/2020-08-08/
CATEGORIES:Live Music
END:VEVENT
BEGIN:VEVENT
DTSTART;TZID=UTC:20200808T180000
DTEND;TZID=UTC:20200808T210000
DTSTAMP:20260420T072143
CREATED:20200112T085917Z
LAST-MODIFIED:20200910T040458Z
UID:10028281-1596909600-1596920400@bentleyssaloon.com
SUMMARY:Iron Dynamite
DESCRIPTION:They are the new generation that brings back the spirit of true rock music.
URL:https://bentleyssaloon.com/event/iron-dynamite-2020-06-18/2020-08-08/
CATEGORIES:Live Music,Rock N Roll
ATTACH;FMTTYPE=image/jpeg:https://bentleyssaloon.com/wp-content/uploads/2019/03/2019-iron-dynamite-first-thursday-e1559691579119.jpg
END:VEVENT
BEGIN:VEVENT
DTSTART;TZID=UTC:20200809T140000
DTEND;TZID=UTC:20200809T180000
DTSTAMP:20260420T072143
CREATED:20200723T175124Z
LAST-MODIFIED:20200723T205015Z
UID:10028495-1596981600-1596996000@bentleyssaloon.com
SUMMARY:Lonnie Wescott Duo
DESCRIPTION:Lonnie a musician with many talents!  Horns\, keyboards\, sings\, teaches!
URL:https://bentleyssaloon.com/event/lonnie-wescott-duo/2020-08-09/
CATEGORIES:Live Music
END:VEVENT
BEGIN:VEVENT
DTSTART;TZID=UTC:20200809T170000
DTEND;TZID=UTC:20200809T200000
DTSTAMP:20260420T072143
CREATED:20200116T102107Z
LAST-MODIFIED:20200218T023317Z
UID:10027984-1596992400-1597003200@bentleyssaloon.com
SUMMARY:Sarah Libby Live Duo
DESCRIPTION:Many flavors of music and multi instrumental to include guitar and keyboard.
URL:https://bentleyssaloon.com/event/sarah-libby-live-duo/2020-08-09/
CATEGORIES:Live Music
ATTACH;FMTTYPE=image/png:https://bentleyssaloon.com/wp-content/uploads/2019/08/sarah-libby-live.png
END:VEVENT
BEGIN:VEVENT
DTSTART;TZID=UTC:20200811T170000
DTEND;TZID=UTC:20200811T190000
DTSTAMP:20260420T072143
CREATED:20200124T110304Z
LAST-MODIFIED:20200723T171008Z
UID:10028359-1597165200-1597172400@bentleyssaloon.com
SUMMARY:Cruisin' Night Tuesday Car Shows
DESCRIPTION:Join us for our free weekly Cruisin’ Night Tuesday Car Shows!  We offer door prizes and one special door prize thanks to our local Sanel NAPA Biddeford Auto Parts Center\, a tool box valued at $1200!  Each time you bring a car to display at our show\, you get a chance to win it!  Discounted meals and cash raffles for everyone!  A portion of our cash raffles goes to our Town of Arundel’s Holiday Program. \n  \n 
URL:https://bentleyssaloon.com/event/cruisin-night-tuesday-car-shows-2020-07-07/2020-08-11/
CATEGORIES:Car Show
ATTACH;FMTTYPE=image/jpeg:https://bentleyssaloon.com/wp-content/uploads/2020/01/2020-Cruisin_Tuesday_Car-Shows_v3.jpg-elaine-and-zoey.jpg
END:VEVENT
END:VCALENDAR