BEGIN:VCALENDAR
VERSION:2.0
PRODID:-//Bentley&#039;s Saloon - ECPv6.15.20//NONSGML v1.0//EN
CALSCALE:GREGORIAN
METHOD:PUBLISH
X-WR-CALNAME:Bentley&#039;s Saloon
X-ORIGINAL-URL:https://bentleyssaloon.com
X-WR-CALDESC:Events for Bentley&#039;s Saloon
REFRESH-INTERVAL;VALUE=DURATION:PT1H
X-Robots-Tag:noindex
X-PUBLISHED-TTL:PT1H
BEGIN:VTIMEZONE
TZID:UTC
BEGIN:STANDARD
TZOFFSETFROM:+0000
TZOFFSETTO:+0000
TZNAME:UTC
DTSTART:20190101T000000
END:STANDARD
END:VTIMEZONE
BEGIN:VEVENT
DTSTART;TZID=UTC:20200815T180000
DTEND;TZID=UTC:20200815T210000
DTSTAMP:20260420T220754
CREATED:20200112T085917Z
LAST-MODIFIED:20200910T040458Z
UID:10028282-1597514400-1597525200@bentleyssaloon.com
SUMMARY:Iron Dynamite
DESCRIPTION:They are the new generation that brings back the spirit of true rock music.
URL:https://bentleyssaloon.com/event/iron-dynamite-2020-06-18/2020-08-15/
CATEGORIES:Live Music,Rock N Roll
ATTACH;FMTTYPE=image/jpeg:https://bentleyssaloon.com/wp-content/uploads/2019/03/2019-iron-dynamite-first-thursday-e1559691579119.jpg
END:VEVENT
BEGIN:VEVENT
DTSTART;TZID=UTC:20200816T140000
DTEND;TZID=UTC:20200816T180000
DTSTAMP:20260420T220754
CREATED:20200116T110104Z
LAST-MODIFIED:20200807T155603Z
UID:10028490-1597586400-1597600800@bentleyssaloon.com
SUMMARY:Sarah Libby Live Duo
DESCRIPTION:
URL:https://bentleyssaloon.com/event/nouveau-redneck-3-2020-07-04-2020-08-01/2020-08-16/
CATEGORIES:Live Music
ATTACH;FMTTYPE=image/png:https://bentleyssaloon.com/wp-content/uploads/2019/08/sarah-libby-live.png
END:VEVENT
BEGIN:VEVENT
DTSTART;TZID=UTC:20200816T170000
DTEND;TZID=UTC:20200816T200000
DTSTAMP:20260420T220754
CREATED:20200116T105013Z
LAST-MODIFIED:20200116T105013Z
UID:10028294-1597597200-1597608000@bentleyssaloon.com
SUMMARY:Dave Shaffer
DESCRIPTION:Acoustic performance
URL:https://bentleyssaloon.com/event/dave-shaffer/2020-08-16/
CATEGORIES:Live Music
ATTACH;FMTTYPE=image/jpeg:https://bentleyssaloon.com/wp-content/uploads/2020/01/dave-shaffer.jpg
END:VEVENT
BEGIN:VEVENT
DTSTART;TZID=UTC:20200817T180000
DTEND;TZID=UTC:20200817T190000
DTSTAMP:20260420T220754
CREATED:20200128T225240Z
LAST-MODIFIED:20200624T074443Z
UID:10028412-1597687200-1597690800@bentleyssaloon.com
SUMMARY:Dance Lessons with the Bentley's Angels Dancers
DESCRIPTION:Join the Bentley’s Angels dancers for fun learning country line dancing the first and third Mondays beginning in May.  Only $5 per lesson and we offer $3 margaritas on Mondays!
URL:https://bentleyssaloon.com/event/dance-lessons-with-the-bentleys-angels-dancers-2020-05-18/2020-08-17/
CATEGORIES:Fun Event
ATTACH;FMTTYPE=image/jpeg:https://bentleyssaloon.com/wp-content/uploads/2020/01/2020-DanceLessons.jpg
END:VEVENT
BEGIN:VEVENT
DTSTART;TZID=UTC:20200818T170000
DTEND;TZID=UTC:20200818T190000
DTSTAMP:20260420T220754
CREATED:20200124T110304Z
LAST-MODIFIED:20200723T171008Z
UID:10028360-1597770000-1597777200@bentleyssaloon.com
SUMMARY:Cruisin' Night Tuesday Car Shows
DESCRIPTION:Join us for our free weekly Cruisin’ Night Tuesday Car Shows!  We offer door prizes and one special door prize thanks to our local Sanel NAPA Biddeford Auto Parts Center\, a tool box valued at $1200!  Each time you bring a car to display at our show\, you get a chance to win it!  Discounted meals and cash raffles for everyone!  A portion of our cash raffles goes to our Town of Arundel’s Holiday Program. \n  \n 
URL:https://bentleyssaloon.com/event/cruisin-night-tuesday-car-shows-2020-07-07/2020-08-18/
CATEGORIES:Car Show
ATTACH;FMTTYPE=image/jpeg:https://bentleyssaloon.com/wp-content/uploads/2020/01/2020-Cruisin_Tuesday_Car-Shows_v3.jpg-elaine-and-zoey.jpg
END:VEVENT
END:VCALENDAR