BEGIN:VCALENDAR
VERSION:2.0
PRODID:-//Bentley&#039;s Saloon - ECPv6.15.20//NONSGML v1.0//EN
CALSCALE:GREGORIAN
METHOD:PUBLISH
X-WR-CALNAME:Bentley&#039;s Saloon
X-ORIGINAL-URL:https://bentleyssaloon.com
X-WR-CALDESC:Events for Bentley&#039;s Saloon
REFRESH-INTERVAL;VALUE=DURATION:PT1H
X-Robots-Tag:noindex
X-PUBLISHED-TTL:PT1H
BEGIN:VTIMEZONE
TZID:UTC
BEGIN:STANDARD
TZOFFSETFROM:+0000
TZOFFSETTO:+0000
TZNAME:UTC
DTSTART:20190101T000000
END:STANDARD
END:VTIMEZONE
BEGIN:VEVENT
DTSTART;TZID=UTC:20200926T180000
DTEND;TZID=UTC:20200926T210000
DTSTAMP:20260423T110004
CREATED:20200807T160835Z
LAST-MODIFIED:20200807T160835Z
UID:10028539-1601143200-1601154000@bentleyssaloon.com
SUMMARY:STEPPIN OUT BLUES BAND
DESCRIPTION:
URL:https://bentleyssaloon.com/event/steppin-out-blues-band-2/
CATEGORIES:Live Music
ATTACH;FMTTYPE=image/jpeg:https://bentleyssaloon.com/wp-content/uploads/2020/08/steppin-out-blues-band.jpg
END:VEVENT
BEGIN:VEVENT
DTSTART;TZID=UTC:20200928T180000
DTEND;TZID=UTC:20200928T190000
DTSTAMP:20260423T110004
CREATED:20200918T182230Z
LAST-MODIFIED:20200918T182230Z
UID:10028204-1601316000-1601319600@bentleyssaloon.com
SUMMARY:TACO EATING CONTEST!!
DESCRIPTION:
URL:https://bentleyssaloon.com/event/taco-eating-contest/
CATEGORIES:Fun Event
ATTACH;FMTTYPE=image/jpeg:https://bentleyssaloon.com/wp-content/uploads/2020/09/2020-Taco-Contest_ver2-scaled.jpg
END:VEVENT
BEGIN:VEVENT
DTSTART;TZID=UTC:20201001T080000
DTEND;TZID=UTC:20201001T170000
DTSTAMP:20260423T110004
CREATED:20200131T103527Z
LAST-MODIFIED:20220130T081740Z
UID:10028429-1601539200-1601571600@bentleyssaloon.com
SUMMARY:Blue Moon Full Moon
DESCRIPTION:Every full moon\, FREE Blue Moon swag for Blue Moon drinkers and a chance to enter to win a Patagonia Back Pack.  Winner’s name drawn Oct 1.
URL:https://bentleyssaloon.com/event/blue-moon-full-moon-7-2020-10-01/
ATTACH;FMTTYPE=image/jpeg:https://bentleyssaloon.com/wp-content/uploads/2020/01/2020-BlueMoon_FullMoon-scaled.jpg
END:VEVENT
END:VCALENDAR