BEGIN:VCALENDAR
VERSION:2.0
PRODID:-//Bentley&#039;s Saloon - ECPv6.15.20//NONSGML v1.0//EN
CALSCALE:GREGORIAN
METHOD:PUBLISH
X-WR-CALNAME:Bentley&#039;s Saloon
X-ORIGINAL-URL:https://bentleyssaloon.com
X-WR-CALDESC:Events for Bentley&#039;s Saloon
REFRESH-INTERVAL;VALUE=DURATION:PT1H
X-Robots-Tag:noindex
X-PUBLISHED-TTL:PT1H
BEGIN:VTIMEZONE
TZID:UTC
BEGIN:STANDARD
TZOFFSETFROM:+0000
TZOFFSETTO:+0000
TZNAME:UTC
DTSTART:20200101T000000
END:STANDARD
END:VTIMEZONE
BEGIN:VEVENT
DTSTART;TZID=UTC:20210522T190000
DTEND;TZID=UTC:20210522T230000
DTSTAMP:20260424T063802
CREATED:20200116T114920Z
LAST-MODIFIED:20210509T065940Z
UID:10028649-1621710000-1621724400@bentleyssaloon.com
SUMMARY:BoneShakerz
DESCRIPTION:IT’S ALL ABOUT THE MUSIC! These three well respected musicians have been around the block more than a few times with many of the top bands touring New England and Canada. Now they’re playing the music they love….Sit back and enjoy the songs you know and love BUT hardly ever hear live as the Boneshakerz faithfully recreates and makes them their own. The set list covers a wide variety of styles from Bowie to Prince\, U2 to Robin Trower\, Zeppelin to Zappa – with lots of hard rockin’ in between.
URL:https://bentleyssaloon.com/event/boneshakerz-2021-05-22/
CATEGORIES:Live Music
ATTACH;FMTTYPE=image/jpeg:https://bentleyssaloon.com/wp-content/uploads/2020/01/BoneShakerz.jpg
END:VEVENT
END:VCALENDAR