BEGIN:VCALENDAR
VERSION:2.0
PRODID:-//Bentley&#039;s Saloon - ECPv6.15.20//NONSGML v1.0//EN
CALSCALE:GREGORIAN
METHOD:PUBLISH
X-WR-CALNAME:Bentley&#039;s Saloon
X-ORIGINAL-URL:https://bentleyssaloon.com
X-WR-CALDESC:Events for Bentley&#039;s Saloon
REFRESH-INTERVAL;VALUE=DURATION:PT1H
X-Robots-Tag:noindex
X-PUBLISHED-TTL:PT1H
BEGIN:VTIMEZONE
TZID:UTC
BEGIN:STANDARD
TZOFFSETFROM:+0000
TZOFFSETTO:+0000
TZNAME:UTC
DTSTART:20200101T000000
END:STANDARD
END:VTIMEZONE
BEGIN:VEVENT
DTSTART;TZID=UTC:20210618T130000
DTEND;TZID=UTC:20210618T170000
DTSTAMP:20260423T034116
CREATED:20191223T082313Z
LAST-MODIFIED:20210527T175438Z
UID:10028227-1624021200-1624035600@bentleyssaloon.com
SUMMARY:B.B. & the Silver Screen
DESCRIPTION:“We play upbeat\, fun songs that get you moving and singing along! Modern rock\, classic rock\, country\, and pop!”
URL:https://bentleyssaloon.com/event/inner-child-3-2021-06-18/
LOCATION:Bentley’s Saloon\, 1601 Portland Road\, Arundel\, ME\, 04046
CATEGORIES:Live Music,Rock N Roll
ATTACH;FMTTYPE=image/jpeg:https://bentleyssaloon.com/wp-content/uploads/2019/04/BB-and-hte-Silver-Screen.jpg
END:VEVENT
BEGIN:VEVENT
DTSTART;TZID=UTC:20210618T160000
DTEND;TZID=UTC:20210618T200000
DTSTAMP:20260423T034116
CREATED:20200128T013128Z
LAST-MODIFIED:20220609T070806Z
UID:10028006-1624032000-1624046400@bentleyssaloon.com
SUMMARY:Shovelhead Band
DESCRIPTION:Mark~ AJ~ Dave~ Jim Southern & Classic Rock!!!! Based out of the Hartford/ Springfield area and have been performing music together for 25 years!! . The bands name became infused from Dave’s ’78 Shovelhead FX and Aj’s ’77 Shovel!! Performed with some of the greatest Southern & Classic rock bands that they are huge fans of…. Foghat- The Marshall Tucker Band- The Outlaws- 38 Special- Great White- Artemus Pyle- Dee Snyder- Georgia Sattelites!!
URL:https://bentleyssaloon.com/event/shovelhead-band/2021-06-18/
CATEGORIES:Live Music
ATTACH;FMTTYPE=image/jpeg:https://bentleyssaloon.com/wp-content/uploads/2020/01/shovelhead-scaled.jpg
END:VEVENT
BEGIN:VEVENT
DTSTART;TZID=UTC:20210618T190000
DTEND;TZID=UTC:20210618T230000
DTSTAMP:20260423T034116
CREATED:20200116T102900Z
LAST-MODIFIED:20210929T011132Z
UID:10028283-1624042800-1624057200@bentleyssaloon.com
SUMMARY:13 Black
DESCRIPTION:Southern Maine band playing rock covers from the 90’s and more!
URL:https://bentleyssaloon.com/event/13-black-3/2021-06-18/
CATEGORIES:Live Music
ATTACH;FMTTYPE=image/jpeg:https://bentleyssaloon.com/wp-content/uploads/2020/01/13-black.jpg
END:VEVENT
BEGIN:VEVENT
DTSTART;TZID=UTC:20210619T080000
DTEND;TZID=UTC:20210619T170000
DTSTAMP:20260423T034116
CREATED:20210603T201853Z
LAST-MODIFIED:20210603T202901Z
UID:10028747-1624089600-1624122000@bentleyssaloon.com
SUMMARY:Bentley's Biker Rally
DESCRIPTION:Bentley’s Annual Biker Rally is same time as Laconia’s Bike Week. Bentley’s Saloon is only 70 scenic miles from Laconia\, New Hampshire! On Tuesday\, June 15\, we escort a ride from Laconia headquarters to the Saloon! Live bands and events all week!!  Special camping rates – call 207-985-8966 ext 0.
URL:https://bentleyssaloon.com/event/bentleys-biker-rally/2021-06-19/
CATEGORIES:Fun Event,Live Music
ATTACH;FMTTYPE=image/jpeg:https://bentleyssaloon.com/wp-content/uploads/2021/06/2021-Bentleys-Bike-Rally-scaled.jpg
END:VEVENT
BEGIN:VEVENT
DTSTART;TZID=UTC:20210619T130000
DTEND;TZID=UTC:20210619T170000
DTSTAMP:20260423T034116
CREATED:20200128T013128Z
LAST-MODIFIED:20220609T070806Z
UID:10028007-1624107600-1624122000@bentleyssaloon.com
SUMMARY:Shovelhead Band
DESCRIPTION:Mark~ AJ~ Dave~ Jim Southern & Classic Rock!!!! Based out of the Hartford/ Springfield area and have been performing music together for 25 years!! . The bands name became infused from Dave’s ’78 Shovelhead FX and Aj’s ’77 Shovel!! Performed with some of the greatest Southern & Classic rock bands that they are huge fans of…. Foghat- The Marshall Tucker Band- The Outlaws- 38 Special- Great White- Artemus Pyle- Dee Snyder- Georgia Sattelites!!
URL:https://bentleyssaloon.com/event/shovelhead-band/2021-06-19/
CATEGORIES:Live Music
ATTACH;FMTTYPE=image/jpeg:https://bentleyssaloon.com/wp-content/uploads/2020/01/shovelhead-scaled.jpg
END:VEVENT
BEGIN:VEVENT
DTSTART;TZID=UTC:20210620T080000
DTEND;TZID=UTC:20210620T170000
DTSTAMP:20260423T034116
CREATED:20210603T201853Z
LAST-MODIFIED:20210603T202901Z
UID:10028748-1624176000-1624208400@bentleyssaloon.com
SUMMARY:Bentley's Biker Rally
DESCRIPTION:Bentley’s Annual Biker Rally is same time as Laconia’s Bike Week. Bentley’s Saloon is only 70 scenic miles from Laconia\, New Hampshire! On Tuesday\, June 15\, we escort a ride from Laconia headquarters to the Saloon! Live bands and events all week!!  Special camping rates – call 207-985-8966 ext 0.
URL:https://bentleyssaloon.com/event/bentleys-biker-rally/2021-06-20/
CATEGORIES:Fun Event,Live Music
ATTACH;FMTTYPE=image/jpeg:https://bentleyssaloon.com/wp-content/uploads/2021/06/2021-Bentleys-Bike-Rally-scaled.jpg
END:VEVENT
BEGIN:VEVENT
DTSTART;TZID=UTC:20210620T130000
DTEND;TZID=UTC:20210620T170000
DTSTAMP:20260423T034116
CREATED:20200723T175426Z
LAST-MODIFIED:20220226T093510Z
UID:10028721-1624194000-1624208400@bentleyssaloon.com
SUMMARY:Texas Pete Band
DESCRIPTION:Country & southern rock musicians from Southern Maine.
URL:https://bentleyssaloon.com/event/texas-pete-trio-2020-10-16-2021-06-15-2/2021-06-20/
CATEGORIES:Live Music
ATTACH;FMTTYPE=image/jpeg:https://bentleyssaloon.com/wp-content/uploads/2020/07/texas-pete-1.jpg
END:VEVENT
BEGIN:VEVENT
DTSTART;TZID=UTC:20210620T170000
DTEND;TZID=UTC:20210620T200000
DTSTAMP:20260423T034116
CREATED:20210401T052654Z
LAST-MODIFIED:20210611T174825Z
UID:10028658-1624208400-1624219200@bentleyssaloon.com
SUMMARY:David Ames Solo
DESCRIPTION:
URL:https://bentleyssaloon.com/event/david-ames-solo/2021-06-20/
CATEGORIES:Live Music
ATTACH;FMTTYPE=image/jpeg:https://bentleyssaloon.com/wp-content/uploads/2021/04/david-ames.jpg
END:VEVENT
BEGIN:VEVENT
DTSTART;TZID=UTC:20210626T140000
DTEND;TZID=UTC:20210626T180000
DTSTAMP:20260423T034116
CREATED:20190407T072349Z
LAST-MODIFIED:20210401T065003Z
UID:10027862-1624716000-1624730400@bentleyssaloon.com
SUMMARY:SOUTHERN BREEZE
DESCRIPTION:New England-based quintet that plays tribute to the finest southern rock bands of all time. LYNYRD SKYNYRD. Southern Breeze delivers it with all of the passion and energy of the originals.
URL:https://bentleyssaloon.com/event/southern-breeze/2021-06-26/
LOCATION:Bentley’s Saloon\, 1601 Portland Road\, Arundel\, ME\, 04046
CATEGORIES:Live Music,Southern Rock
ATTACH;FMTTYPE=image/jpeg:https://bentleyssaloon.com/wp-content/uploads/2019/04/SOUTHERN-BREEZE.jpg
END:VEVENT
BEGIN:VEVENT
DTSTART;TZID=UTC:20210626T190000
DTEND;TZID=UTC:20210626T230000
DTSTAMP:20260423T034116
CREATED:20191223T082746Z
LAST-MODIFIED:20220128T210634Z
UID:10028239-1624734000-1624748400@bentleyssaloon.com
SUMMARY:Walkin' The Line
DESCRIPTION:High energy country rock band taking New England by storm! Bringing years of experience with some of the best bands around and opening for country legends like Charlie Daniels\, Lorrie Morgan & Travis Tritt to name a few.
URL:https://bentleyssaloon.com/event/walkin-the-line-3/2021-06-26/
CATEGORIES:Country,Live Music
ATTACH;FMTTYPE=image/jpeg:https://bentleyssaloon.com/wp-content/uploads/2019/04/WALKIN-THE-LINE-WITH-BENTLEY.jpg
END:VEVENT
END:VCALENDAR