BEGIN:VCALENDAR
VERSION:2.0
PRODID:-//Bentley&#039;s Saloon - ECPv6.15.20//NONSGML v1.0//EN
CALSCALE:GREGORIAN
METHOD:PUBLISH
X-WR-CALNAME:Bentley&#039;s Saloon
X-ORIGINAL-URL:https://bentleyssaloon.com
X-WR-CALDESC:Events for Bentley&#039;s Saloon
REFRESH-INTERVAL;VALUE=DURATION:PT1H
X-Robots-Tag:noindex
X-PUBLISHED-TTL:PT1H
BEGIN:VTIMEZONE
TZID:UTC
BEGIN:STANDARD
TZOFFSETFROM:+0000
TZOFFSETTO:+0000
TZNAME:UTC
DTSTART:20200101T000000
END:STANDARD
END:VTIMEZONE
BEGIN:VEVENT
DTSTART;TZID=UTC:20211003T170000
DTEND;TZID=UTC:20211003T200000
DTSTAMP:20260423T034039
CREATED:20200128T225806Z
LAST-MODIFIED:20220827T200604Z
UID:10028519-1633280400-1633291200@bentleyssaloon.com
SUMMARY:The Randy & Brad Duo
DESCRIPTION:Classic and Contemporary Rock Duo with Vocals\, Keyboards\, Sax\, Flute and Drums.
URL:https://bentleyssaloon.com/event/northern-groove-2-2020-09-18/2021-10-03/
CATEGORIES:Live Music
ATTACH;FMTTYPE=image/jpeg:https://bentleyssaloon.com/wp-content/uploads/2020/01/Brad-and-Randy.jpg
END:VEVENT
BEGIN:VEVENT
DTSTART;TZID=UTC:20211006T180000
DTEND;TZID=UTC:20211006T180000
DTSTAMP:20260423T034039
CREATED:20210311T223446Z
LAST-MODIFIED:20220312T100732Z
UID:10028606-1633543200-1633543200@bentleyssaloon.com
SUMMARY:Open Mic Night
DESCRIPTION:Open Mic Rocks the Courtyard on Wednesdays from 6:30 til 9:30 pm.   PA – full band backup and stage gear provided.  May bring a small combo amp. \nPatrons\, we get really talented musicians performing so if you’re looking to enjoy a night out\, come listen!
URL:https://bentleyssaloon.com/event/open-mic-night-3/2021-10-06/
CATEGORIES:Live Music
ATTACH;FMTTYPE=image/png:https://bentleyssaloon.com/wp-content/uploads/2021/03/omn-piv.png
END:VEVENT
BEGIN:VEVENT
DTSTART;TZID=UTC:20211007T190000
DTEND;TZID=UTC:20211007T220000
DTSTAMP:20260423T034039
CREATED:20210701T201930Z
LAST-MODIFIED:20210701T201930Z
UID:10028760-1633633200-1633644000@bentleyssaloon.com
SUMMARY:Dance Party with the Loud Proud American
DESCRIPTION:Join the Loud Proud American Keith Liberty spinning your favorite dance music the first Thursday of every month in August\, September and October from 7 til 10 pm!  Free Twisted Tea swag!
URL:https://bentleyssaloon.com/event/dance-party-with-the-loud-proud-american/2021-10-07/
CATEGORIES:Fun Event,Variety
ATTACH;FMTTYPE=image/jpeg:https://bentleyssaloon.com/wp-content/uploads/2021/07/2021-First-Thursday-scaled.jpg
END:VEVENT
BEGIN:VEVENT
DTSTART;TZID=UTC:20211008T190000
DTEND;TZID=UTC:20211008T230000
DTSTAMP:20260423T034039
CREATED:20200112T084620Z
LAST-MODIFIED:20220222T063304Z
UID:10028264-1633719600-1633734000@bentleyssaloon.com
SUMMARY:Stolen Mojo
DESCRIPTION:“Stolen Mojo” is made up of 5 of Maine’s finest musicians playing the best hits from the last 5 decades.
URL:https://bentleyssaloon.com/event/stolen-mojo-4-2020-06-16-2021-10-08/2021-10-08/
CATEGORIES:Live Music,Variety
ATTACH;FMTTYPE=image/jpeg:https://bentleyssaloon.com/wp-content/uploads/2020/01/stolen-mojo-1.jpg
END:VEVENT
BEGIN:VEVENT
DTSTART;TZID=UTC:20211009T190000
DTEND;TZID=UTC:20211009T230000
DTSTAMP:20260423T034039
CREATED:20200127T234301Z
LAST-MODIFIED:20210907T012621Z
UID:10028678-1633806000-1633820400@bentleyssaloon.com
SUMMARY:Dave Berry Band
DESCRIPTION:Rock\, rhythm and blues with smooth silky guitar & saxaphone.
URL:https://bentleyssaloon.com/event/jodie-cunningham-band-3-2021-10-09/
CATEGORIES:Country,Live Music
ATTACH;FMTTYPE=image/jpeg:https://bentleyssaloon.com/wp-content/uploads/2020/01/dave-berry-band-1.jpg
END:VEVENT
END:VCALENDAR