BEGIN:VCALENDAR
VERSION:2.0
PRODID:-//Bentley&#039;s Saloon - ECPv6.15.20//NONSGML v1.0//EN
CALSCALE:GREGORIAN
METHOD:PUBLISH
X-WR-CALNAME:Bentley&#039;s Saloon
X-ORIGINAL-URL:https://bentleyssaloon.com
X-WR-CALDESC:Events for Bentley&#039;s Saloon
REFRESH-INTERVAL;VALUE=DURATION:PT1H
X-Robots-Tag:noindex
X-PUBLISHED-TTL:PT1H
BEGIN:VTIMEZONE
TZID:UTC
BEGIN:STANDARD
TZOFFSETFROM:+0000
TZOFFSETTO:+0000
TZNAME:UTC
DTSTART:20230101T000000
END:STANDARD
END:VTIMEZONE
BEGIN:VEVENT
DTSTART;TZID=UTC:20240714T130000
DTEND;TZID=UTC:20240714T170000
DTSTAMP:20260420T025803
CREATED:20230405T001128Z
LAST-MODIFIED:20240607T002031Z
UID:10029330-1720962000-1720976400@bentleyssaloon.com
SUMMARY:Acoustically Speaking
DESCRIPTION:Acoustically Speaking is the trio who’s stripping down the songs you know\, like\, love or maybe even dislike 🙂
URL:https://bentleyssaloon.com/event/acoustically-speaking-2024-07-14/
LOCATION:ME
CATEGORIES:Live Music
ATTACH;FMTTYPE=image/jpeg:https://bentleyssaloon.com/wp-content/uploads/2023/04/310988626_521286010004973_4272061353718992173_n.jpg
END:VEVENT
BEGIN:VEVENT
DTSTART;TZID=UTC:20240714T180000
DTEND;TZID=UTC:20240714T210000
DTSTAMP:20260420T025803
CREATED:20240310T195654Z
LAST-MODIFIED:20240605T190658Z
UID:10028749-1720980000-1720990800@bentleyssaloon.com
SUMMARY:Randy and Brad Duo
DESCRIPTION:We’re excited to Randy and Brad back on our stage.  They used to be regulars\, but moved to Florida.  Whenever they come to Maine\, they perform for us!!  Fantastic show!! \n\n\n\nClassic and Contemporary Rock Duo with Vocals\, Keyboards\, Sax\, Flute and Drums.
URL:https://bentleyssaloon.com/event/brad-and-randy-duo-2/2024-07-14/
LOCATION:ME
CATEGORIES:Live Music
ATTACH;FMTTYPE=image/jpeg:https://bentleyssaloon.com/wp-content/uploads/2024/03/Randy-Brad-Appearing-Bentleys-2024-scaled.jpg
END:VEVENT
BEGIN:VEVENT
DTSTART;TZID=UTC:20240715T190000
DTEND;TZID=UTC:20240715T210000
DTSTAMP:20260420T025803
CREATED:20240223T223554Z
LAST-MODIFIED:20240410T065122Z
UID:10029207-1721070000-1721077200@bentleyssaloon.com
SUMMARY:Paint Nite!
DESCRIPTION:Meet up with your friends for a fun creative night!!  It’s also Margarita Monday! \nSign up for Paint Nite at the reduced rate for $35 by clicking here!
URL:https://bentleyssaloon.com/event/paint-nite/2024-07-15/
LOCATION:ME
CATEGORIES:Fun Event
ATTACH;FMTTYPE=image/jpeg:https://bentleyssaloon.com/wp-content/uploads/2024/02/2024-Paint_Night-scaled.jpg
END:VEVENT
BEGIN:VEVENT
DTSTART;TZID=UTC:20240716T170000
DTEND;TZID=UTC:20240716T190000
DTSTAMP:20260420T025803
CREATED:20231127T032802Z
LAST-MODIFIED:20240724T213429Z
UID:10029176-1721149200-1721156400@bentleyssaloon.com
SUMMARY:Cruisin' Night Tuesday Car Shows
DESCRIPTION:Bentley’s Season Open Car Show is on Sunday\, May 12 (rain date May 19) from 10 am til 2 pm.  Then weekly Bentley’s Cruisin’ Night Tuesday Car Shows from 5 pm til dusk (May 12 through Sept 17\, 2024\, if good weather\, we’ll extend 3 more weeks\, no Tues show on June 11 during Biker Rally).  All special interest cars are welcome and it’s one of our favorite nights of the week to get together to enjoy the show and camaraderie. Often times there are more than 100 cars on display! There are no entry fees for car show owners or spectators. Car show owners receive door prizes\, spectator choice awards and a chance to win a FREE toolbox valued over $1\,000 thanks to Gear Wrench and our local Biddeford Sanel NAPA Auto Parts Store.  We offer cash raffles for everyone to participate and donate a portion of the money to our Town of Arundel’s Holiday Program for local residents in need of a helping hand during the holiday season. In 2023\, we were able to donate $2\,270 thanks to our car show and museum guests! \nAt a couple of our Cruisin’ Night Tuesday Shows we have special features – Hot Rods (1948 & older) and Rat Rods on June 18\, 2024\, and Antique Cars 1957 and older July 23\, 2024. We also host a Truck Show\, all types of trucks\, on Sunday\, August 18\, 10 am til 2 pm (rain date August 25). All special interest vehicles are welcome at these feature shows.  However\, the spectator choice voting is on the featured event vehicles. \nBentley’s race car driver friends join us for our annual All Eras Race Car Show that brings together the drivers and cars of today with the drivers and cars of yesteryear! Our 2024 date is Wednesday\, June 19\, the weekend prior to races at New Hampshire Motor Speedway. \nOur Season-End Show is Sunday\, September 22\, 2024 (rain date Sept 29) from 10 am til 2 pm. It’s typically our most participated show with more than 200 hundred cars on display. At this show we draw the winner’s name for the toolbox valued at $1000. \nWe hosted our first Tractor Show in 2023!   It was so well attended with 50 tractors\, including four Hit & Miss Engines on display and spectators that we all voted to have another show in 2024 during Columbus Day Weekend on October 13\, Sunday from 10 am til 2 pm.  Free breakfast for all tractor owners who bring their tractors to display! \nBentley attends most of the shows\, and it’s a perfect opportunity to meet him and get his “Wicked Fast” book signed! Free tours on the Bentley’s Bus to Bentley’s Toyhouse filled with his private collection of cars\, race cars and motorcycles are offered at most shows and on Saturday mornings at 10 am when the saloon is open. \n  
URL:https://bentleyssaloon.com/event/cruisin-night-tuesday-car-shows-4/2024-07-16/
LOCATION:ME
CATEGORIES:Car Show
ATTACH;FMTTYPE=image/jpeg:https://bentleyssaloon.com/wp-content/uploads/2024/01/2024-Cruisin_Tuesday_Car-Shows-scaled.jpg
END:VEVENT
BEGIN:VEVENT
DTSTART;TZID=UTC:20240718T190000
DTEND;TZID=UTC:20240718T220000
DTSTAMP:20260420T025803
CREATED:20230330T064702Z
LAST-MODIFIED:20240410T064450Z
UID:10029023-1721329200-1721340000@bentleyssaloon.com
SUMMARY:Karaoke Every Thursday 7 - 10 pm
DESCRIPTION:It’s fun! Listening and watching talented people and not-so-talented people.  Every Thursday we do this\, and some Thursdays\, the guys from Baxter Brewery join us!  Do you know we have a Bentley’s Lager which was brewed by Baxter!!  Try it out! Keep the can! Bentley’s story is on it and silly pic of him!!
URL:https://bentleyssaloon.com/event/karaoke-every-thursday-7-10-pm-2023-10-19/2024-07-18/
LOCATION:ME
CATEGORIES:Live Music
ATTACH;FMTTYPE=image/jpeg:https://bentleyssaloon.com/wp-content/uploads/2023/03/2024-Karaoke-Thursdays-scaled.jpg
END:VEVENT
BEGIN:VEVENT
DTSTART;TZID=UTC:20240720T140000
DTEND;TZID=UTC:20240720T180000
DTSTAMP:20260420T025803
CREATED:20230628T212845Z
LAST-MODIFIED:20240626T195816Z
UID:10029172-1721484000-1721498400@bentleyssaloon.com
SUMMARY:Southern Breeze on July 4th!
DESCRIPTION:Sit back\, relax and enjoy a mix of Country\, Classic Rock and Southern Rock.
URL:https://bentleyssaloon.com/event/southern-breeze-on-july-4th/2024-07-20/
LOCATION:ME
CATEGORIES:Live Music
ATTACH;FMTTYPE=image/jpeg:https://bentleyssaloon.com/wp-content/uploads/2020/07/southern-breeze.jpg
END:VEVENT
END:VCALENDAR